BEGIN:VCALENDAR
VERSION:2.0
PRODID:-//ChamberMaster//Event Calendar 2.0//EN
METHOD:PUBLISH
X-PUBLISHED-TTL:P3D
REFRESH-INTERVAL:P3D
CALSCALE:GREGORIAN
BEGIN:VEVENT
DTSTART;VALUE=DATE:20171215
DTEND;VALUE=DATE:20171216
TRANSP:TRANSPARENT
X-MICROSOFT-CDO-ALLDAYEVENT:TRUE
SUMMARY:A Charlie Brown Christmas at the Phipps Center
DESCRIPTION:A Phipps Children?s Theater production\n\nThe classic animated television special comes to life in this faithful stage adaptation\, in which Charlie Brown\, Snoopy\, and the rest of the Peanuts Gang discover the true meaning of Christmas.
X-ALT-DESC;FMTTYPE=text/html:<h3>A Phipps Children?s Theater production</h3>\n\n<p>The classic animated television special comes to life in this faithful stage adaptation\, in which Charlie Brown\, Snoopy\, and the rest of the <em>Peanuts</em> Gang discover the true meaning of Christmas.</p>\n
LOCATION:Phipps Center for the Arts 109 Locust Street Hudson\, WI 54016
UID:e.2450.7584
SEQUENCE:3
DTSTAMP:20260425T014543Z
URL:https://business.hudsonwi.org/events/details/a-charlie-brown-christmas-at-the-phipps-center-12-15-2017-7584
END:VEVENT

END:VCALENDAR
