BEGIN:VCALENDAR
VERSION:2.0
PRODID:-//ChamberMaster//Event Calendar 2.0//EN
METHOD:PUBLISH
X-PUBLISHED-TTL:P3D
REFRESH-INTERVAL:P3D
CALSCALE:GREGORIAN
BEGIN:VEVENT
DTSTART:20260425T170000Z
DTEND:20260425T200000Z
X-MICROSOFT-CDO-ALLDAYEVENT:FALSE
SUMMARY:Arbor Day Tree Give Away and Celebration
DESCRIPTION:Celebrate spring with a free tree! And foraged Cocktails! In partnership with the DNR\, Tattersall is giving away 1\,000 trees and shrubs for Arbor Day.\n\nChoose from -\n\nRiver Birch (Betula nigra)\n\nBlack Cherry (Prunus serontina)\n\nHighbush American Cranberry (Viburnum trilobum)\n\nAmerican Hazelnut (Corylus americana)\n\nAmerican Plum (Prunus americana)\n\nFORAGED COCKTAIL SAMPLES!\n\nTry some of the cocktail from "Cocktails In Bloom" our foraged cocktail recipe book - and learn how you can forage for ingredients right outside your door.
X-ALT-DESC;FMTTYPE=text/html:<div>Celebrate spring with a free tree! And foraged Cocktails! In partnership with the DNR\, Tattersall is giving away 1\,000 trees and shrubs for Arbor Day.</div>\n\n<div>Choose from -<br />\nRiver Birch (Betula nigra)<br />\nBlack Cherry (Prunus serontina)<br />\nHighbush American Cranberry (Viburnum trilobum)<br />\nAmerican Hazelnut (Corylus americana)<br />\nAmerican Plum (Prunus americana)</div>\n\n<div>FORAGED COCKTAIL SAMPLES!<br />\nTry some of the cocktail from &quot\;Cocktails In Bloom&quot\; our foraged cocktail recipe book - and learn how you can forage for ingredients right outside your door.</div>\n
LOCATION:Tattersall 1777 Paulson Rd River Falls\, WI 54022
UID:e.2450.38713
SEQUENCE:3
DTSTAMP:20260422T235943Z
URL:https://business.hudsonwi.org/events/details/arbor-day-tree-give-away-and-celebration-38713
END:VEVENT

END:VCALENDAR
