BEGIN:VCALENDAR
VERSION:2.0
PRODID:-//ChamberMaster//Event Calendar 2.0//EN
METHOD:PUBLISH
X-PUBLISHED-TTL:P3D
REFRESH-INTERVAL:P3D
CALSCALE:GREGORIAN
BEGIN:VEVENT
DTSTART;VALUE=DATE:20181216
DTEND;VALUE=DATE:20181217
TRANSP:TRANSPARENT
X-MICROSOFT-CDO-ALLDAYEVENT:TRUE
SUMMARY:Bah\, Humbug! Scrooge’s Christmas Carol | Children’s Theater Production
DESCRIPTION:Book adapted by Rebecca Ryland\, with music and lyrics by Bill Francoeur\n\nAn uplifting musical adaptation of Dickens? classic Christmas ghost story
X-ALT-DESC;FMTTYPE=text/html:<p><span style="font-size:14px"><span style="font-family:verdana">Book adapted by Rebecca Ryland\, with music and lyrics by Bill Francoeur</span></span></p>\n\n<p><span style="font-size:14px"><span style="font-family:verdana">An uplifting musical adaptation of Dickens? classic Christmas ghost story</span></span></p>\n
LOCATION:
UID:e.2450.13905
SEQUENCE:3
DTSTAMP:20260423T144419Z
URL:https://business.hudsonwi.org/events/details/bah-humbug-scrooge-s-christmas-carol-children-s-theater-production-12-16-2018-13905
END:VEVENT

END:VCALENDAR
