BEGIN:VCALENDAR
VERSION:2.0
PRODID:-//ChamberMaster//Event Calendar 2.0//EN
METHOD:PUBLISH
X-PUBLISHED-TTL:P3D
REFRESH-INTERVAL:P3D
CALSCALE:GREGORIAN
BEGIN:VEVENT
DTSTART:20210116T230000Z
DTEND:20210117T020000Z
X-MICROSOFT-CDO-ALLDAYEVENT:FALSE
SUMMARY:Candlelight Hike and Ski
DESCRIPTION:More information on the website: https://www.ymcanorth.org/camp_st_croix_news__events/2021/01/04/2997424/candle_light_hike_and_ski
X-ALT-DESC;FMTTYPE=text/html:More information on the website: https://www.ymcanorth.org/camp_st_croix_news__events/2021/01/04/2997424/candle_light_hike_and_ski
LOCATION:YMCA Camp St. Croix Day Croix Property 345 Riverview Dr. Hudson\, WI 54016 YMCA Camp St. Croix Day Croix Property
UID:e.2450.18770
SEQUENCE:3
DTSTAMP:20260421T084932Z
URL:https://business.hudsonwi.org/events/details/candlelight-hike-and-ski-18770
END:VEVENT

END:VCALENDAR
