BEGIN:VCALENDAR
VERSION:2.0
PRODID:-//ChamberMaster//Event Calendar 2.0//EN
METHOD:PUBLISH
X-PUBLISHED-TTL:P3D
REFRESH-INTERVAL:P3D
CALSCALE:GREGORIAN
BEGIN:VEVENT
DTSTART:20251122T150000Z
DTEND:20251122T210000Z
X-MICROSOFT-CDO-ALLDAYEVENT:FALSE
SUMMARY:CCH Holiday Craft & Bake Sale!
DESCRIPTION:CCH Holiday Craft & Bake Sale!\n\n\n\nFriday\, November 21st 12-5pm and Saturday\, November 22nd 9am-3pm\n\nMarie Blakeman Community Center on the CCH Hudson Campus\n\n\n\nDelicious baked goods\, fresh from the oven\;\n\nUnique handcrafted items perfect for gives or keepsakes\;\n\nHoliday decor to adorn your space\;\n\nA chance to support a meaningful cause and connect with our community!\n\n\n\nWant to help?\n\nIf you'd like to donate baked goods\, handmade crafts\, or volunteer your time to make this event a success\, please reach out to Deb at 715-386-4524.\n\n\n\nAll proceeds go directly to enhancing the lives of our residents through music\, art\, and joyful activities. Come shop\, support\, and spread the love!
X-ALT-DESC;FMTTYPE=text/html:<span style="background-color:rgb(255\, 255\, 255)\; color:rgb(51\, 51\, 51)\; font-family:sans-serif\,arial\,verdana\,trebuchet ms\; font-size:13px">CCH Holiday Craft &amp\; Bake Sale!</span><br />\n<br />\n<span style="background-color:rgb(255\, 255\, 255)\; color:rgb(51\, 51\, 51)\; font-family:sans-serif\,arial\,verdana\,trebuchet ms\; font-size:13px">Friday\, November 21st 12-5pm and Saturday\, November 22nd 9am-3pm</span><br />\n<span style="background-color:rgb(255\, 255\, 255)\; color:rgb(51\, 51\, 51)\; font-family:sans-serif\,arial\,verdana\,trebuchet ms\; font-size:13px">Marie Blakeman Community Center on the CCH Hudson Campus</span><br />\n<br />\n<span style="background-color:rgb(255\, 255\, 255)\; color:rgb(51\, 51\, 51)\; font-family:sans-serif\,arial\,verdana\,trebuchet ms\; font-size:13px">Delicious baked goods\, fresh from the oven\;</span><br />\n<span style="background-color:rgb(255\, 255\, 255)\; color:rgb(51\, 51\, 51)\; font-family:sans-serif\,arial\,verdana\,trebuchet ms\; font-size:13px">Unique handcrafted items perfect for gives or keepsakes\;</span><br />\n<span style="background-color:rgb(255\, 255\, 255)\; color:rgb(51\, 51\, 51)\; font-family:sans-serif\,arial\,verdana\,trebuchet ms\; font-size:13px">Holiday decor to adorn your space\;</span><br />\n<span style="background-color:rgb(255\, 255\, 255)\; color:rgb(51\, 51\, 51)\; font-family:sans-serif\,arial\,verdana\,trebuchet ms\; font-size:13px">A chance to support a meaningful cause and connect with our community!</span><br />\n<br />\n<span style="background-color:rgb(255\, 255\, 255)\; color:rgb(51\, 51\, 51)\; font-family:sans-serif\,arial\,verdana\,trebuchet ms\; font-size:13px">Want to help?</span><br />\n<span style="background-color:rgb(255\, 255\, 255)\; color:rgb(51\, 51\, 51)\; font-family:sans-serif\,arial\,verdana\,trebuchet ms\; font-size:13px">If you&#39\;d like to donate baked goods\, handmade crafts\, or volunteer your time to make this event a success\, please reach out to Deb at 715-386-4524.</span><br />\n<br />\n<span style="background-color:rgb(255\, 255\, 255)\; color:rgb(51\, 51\, 51)\; font-family:sans-serif\,arial\,verdana\,trebuchet ms\; font-size:13px">All proceeds go directly to enhancing the lives of our residents through music\, art\, and joyful activities. Come shop\, support\, and spread the love!</span>
LOCATION:CCH Hudson Marie Blakeman Community Center 1320 Wisconsin St. Hudson\, WI 54016
UID:e.2450.36984
SEQUENCE:3
DTSTAMP:20260425T195656Z
URL:https://business.hudsonwi.org/events/details/cch-holiday-craft-bake-sale-11-22-2025-36984
END:VEVENT

END:VCALENDAR
