BEGIN:VCALENDAR
VERSION:2.0
PRODID:-//ChamberMaster//Event Calendar 2.0//EN
METHOD:PUBLISH
X-PUBLISHED-TTL:P3D
REFRESH-INTERVAL:P3D
CALSCALE:GREGORIAN
BEGIN:VEVENT
DTSTART:20250623T163000Z
DTEND:20250623T230000Z
X-MICROSOFT-CDO-ALLDAYEVENT:FALSE
SUMMARY:Chamber Golf Tournament 2025
DESCRIPTION:Join us for the 28th Annual Hudson Area Chamber Golf Tournament!\n\n\n\nSpend a fun-filled day of golf\, networking\, and fun with fellow Chamber Members at this event scheduled for Monday\, June 23\, 2025. Join us for food\, drinks\, contests\, raffles\, and more!\n\n\n\nShotgun Start | Rain or Shine!\n\nYou will receive your starting hole number at registration. Play will follow a best-ball\, 18-hole\, four-member team scramble type tournament. Every player tees off\; and the best team shot is selected. All players hit their next shot from that position.\n\nOfficial rules and contests will be provided at the tournament. \n\n\n\nPricing\n\nMember - $185 / player\n\nMember Foursome - $740\n\nNon-Member - $205 / player\n\nNon-Member Foursome - $820 \n\n\n\nSpots limited - please contact the Chamber for availability\n\n\n\nAll registrations must be submitted by Tuesday\, June 17\, 2025. \n\nPre-Purchase Items\n\nMulligans - $5\n\nPre-purchase mulligans this year. You will receive the ticket the day of the event. Limit 1 per golfer.\n\nPutting Contest - $5 each / 3 for $10\n\nPre-register to be in the putting contest!\n\n\n\nStroke Finishing String - 3 ft for $10\n\nBall didn't land where you needed it? Pre-purchase stroke finishing string this year! You will receive the string the day of the event. Limit 1 per foursome.\n\n\n\nSchedule\n\n\n	Sponsor Registration & Set-Up: 9:00 a.m.\n	Registration: 10:00 a.m.\n	\n		 Driving Range will be open at this time\n	\n	\n	Shotgun Start: 11:30 a.m.\n	Happy Hour with Food: available at the end of golfing\n	\n		 Average tournament length on course: 4.5 - 5 hours\n	\n	\n\n\n\n\nRaffle tickets for fabulous prizes available for purchase at the event\n\n\n\n2025 Exclusive Experiences\n\n\n\nPre-Purchase Game Bundles\n\nAvoid team delays at registration with our new Pre-Purchased Game Bundle. Purchase a bundle for your team and enhance the event experience. Each bundle includes:\n\n\n	4 Mulligans\n	3 Feet of Stroke Finishing String\n	4 Putts in the Putting Contest \n\n\nPre-Purchase Game Bundle - $40 per team\n\n\n\nPre-Register for Raffles\n\nAvoid hold-ups at the registration table by pre-registering for your raffle tickets. Indicate how many raffle tickets you want and provide your contact information\, and we'll have them ready for you at the course!\n\n\n\nRaffle Tickets: $20 per arm length\, payment required at event\n\n\n\nShow your Support\n\nSponsor this event and get your business name in front of over 100 local business leaders. Sponsorships include golf packages\, marketing opportunities\, and two complementary lunches for sponsors sitting at a hole. Sponsorship commitment and payment due by Friday\, June 6th. Learn more about sponsorships on page nine of our Sponsorship Brochure.\n\n\n\nDonate a raffle item to this event and promote your business! Interested in providing a prize? Email info@hudsonwi.org.
X-ALT-DESC;FMTTYPE=text/html:<p style="font-size: 14px\; line-height: 140%\;"><span style="font-size: 24px\; line-height: 33.6px\; font-family: 'arial black'\, 'avant garde'\, arial\; color: #006937\;">Join us for the 28<sup>th</sup> Annual Hudson Area Chamber Golf Tournament!</span><br />\n<br />\n<span style="font-family: arial\; font-size: 14px\;">Spend a fun-filled day of golf\, networking\, and fun with fellow Chamber Members at this event scheduled for Monday\, June 23\, 2025. Join us for food\, drinks\, contests\, raffles\, and more!</span><br />\n<br />\n<span style="font-family: 'arial black'\, 'avant garde'\, arial\; font-size: 18px\; line-height: 23.4px\; color: #8bc540\;"><strong>Shotgun Start | Rain or Shine!</strong></span><br />\n<span style="font-family: arial\, helvetica\, sans-serif\; line-height: 18.2px\;">You will receive your starting hole number at registration. Play will follow a best-ball\, 18-hole\, four-member team scramble type tournament. Every player tees off\; and the best team shot is selected. All players hit their next shot from that position.</span></p>\n\n<p style="line-height: 130%\;"><em style="font-size: 14px\;"><span style="font-family: arial\, helvetica\, sans-serif\; line-height: 18.2px\;">Official rules and contests will be provided at the tournament.&nbsp\;</span></em><br />\n<br />\n<span style="font-family: 'arial black'\, AvenirNext-Heavy\, 'avant garde'\, arial\; font-size: 18px\; line-height: 25.2px\; color: #8bc540\;">Pricing</span><br />\n<span style="font-family: arial\, helvetica\, sans-serif\; font-size: 14px\;">Member - $185&nbsp\;/ player</span><br style="font-family: arial\, helvetica\, sans-serif\; font-size: 14px\;" />\n<span style="font-family: arial\, helvetica\, sans-serif\; font-size: 14px\;">Member Foursome - $740</span><br style="font-family: arial\, helvetica\, sans-serif\; font-size: 14px\;" />\n<span style="font-family: arial\, helvetica\, sans-serif\; font-size: 14px\;">Non-Member - $205&nbsp\;/ player</span><br style="font-family: arial\, helvetica\, sans-serif\; font-size: 14px\;" />\n<span style="font-family: arial\, helvetica\, sans-serif\; font-size: 14px\;">Non-Member Foursome - $820&nbsp\;<br />\n<br />\n<strong>Spots limited - please contact the Chamber for availability</strong></span><br />\n<br />\n<span style="color:#FF0000\;"><span style="text-decoration-line: underline\; line-height: 19.6px\;"><span style="line-height: 19.6px\;"><strong><span style="font-family: arial\, helvetica\, sans-serif\; font-size: 14px\; line-height: 19.6px\;">All registrations must be submitted by Tuesday\, June 17\, 2025.&nbsp\;</span></strong></span></span></span></p>\n\n<p style="line-height: 16.9px\;"><span arial="" avant="" font-size:="" style="color: rgb(139\, 197\, 64)\; font-family: ">Pre-Purchase Items</span></p>\n\n<p style="font-size: 14px\; line-height: 19.6px\;"><span style="font-family: arial\, helvetica\, sans-serif\; font-size: 16px\; line-height: 22.4px\; color: rgb(4\, 149\, 165)\;"><strong>Mulligans -&nbsp\;</strong></span><span style="font-family: arial\, helvetica\, sans-serif\; font-size: 16px\; line-height: 22.4px\; color: rgb(0\, 0\, 0)\;"><strong>$5</strong></span></p>\n\n<p style="font-size: 14px\; line-height: 19.6px\;"><span style="font-family: arial\, helvetica\, sans-serif\; line-height: 19.6px\;">Pre-purchase mulligans this year. You will receive the ticket the day of the event.&nbsp\;</span><em><span style="font-family: arial\, helvetica\, sans-serif\; line-height: 19.6px\;">Limit 1 per golfer.</span></em></p>\n\n<p style="font-size: 14px\; line-height: 19.6px\;"><span style="font-family: arial\, helvetica\, sans-serif\; font-size: 16px\; line-height: 22.4px\;"><strong><span style="color: rgb(4\, 149\, 165)\; line-height: 22.4px\;">Putting Contest -&nbsp\;</span></strong></span><span style="font-family: arial\, helvetica\, sans-serif\; font-size: 16px\; line-height: 22.4px\; color: rgb(0\, 0\, 0)\;"><strong>$5 each / 3 for $10</strong></span></p>\n\n<p style="font-size: 14px\; line-height: 19.6px\;"><span style="font-family: arial\, helvetica\, sans-serif\; line-height: 19.6px\;">Pre-register to be in the putting contest!</span><br />\n<br />\n<strong style="font-family: arial\, helvetica\, sans-serif\; font-size: 16px\;"><span style="color: rgb(4\, 149\, 165)\; line-height: 22.4px\;">Stroke Finishing String -</span></strong><strong><span style="color:#0495A5\;"><span style="font-family:arial\,sans-serif\;">&nbsp\;</span></span><span style="color:black\;"><span style="font-family:arial\,sans-serif\;">3 ft for $10</span></span></strong><br />\n<span style="color:black\;"><span style="font-family:arial\,sans-serif\;"><span style="font-size:10.5pt\;">Ball didn&#39\;t land where you needed it? Pre-purchase stroke finishing string this year! You will receive the string the day of the event.&nbsp\;</span></span></span><em><span style="color:black\;"><span style="font-family:arial\,sans-serif\;"><span style="font-size:10.5pt\;">Limit 1 per foursome.</span></span></span></em><br />\n<br />\n<span arial="" avant="" font-size:="" style="box-sizing: border-box\; font-weight: bolder\; color: rgb(139\, 197\, 64)\; font-family: ">Schedule</span></p>\n\n<ul>\n	<li style="font-size: 14px\; line-height: 18.2px\;"><span style="font-family: arial\, helvetica\, sans-serif\; line-height: 18.2px\;">Sponsor Registration &amp\; Set-Up: 9:00 a.m.</span></li>\n	<li style="font-size: 14px\; line-height: 18.2px\;"><span style="font-family: arial\, helvetica\, sans-serif\; line-height: 18.2px\;">Registration: 10:00 a.m.</span>\n	<ul>\n		<li style="font-size: 14px\; line-height: 18.2px\;"><span style="font-family: arial\, helvetica\, sans-serif\; line-height: 18.2px\;">&#8203\;Driving Range will be open at this time</span></li>\n	</ul>\n	</li>\n	<li style="font-size: 14px\; line-height: 18.2px\;"><span style="font-family: arial\, helvetica\, sans-serif\; line-height: 18.2px\;">Shotgun Start: 11:30 a.m.</span></li>\n	<li style="font-size: 14px\; line-height: 18.2px\;"><span style="font-family: arial\, helvetica\, sans-serif\; line-height: 18.2px\;">Happy Hour with Food: available at the end of golfing</span>\n	<ul>\n		<li style="font-size: 14px\; line-height: 18.2px\;"><span style="font-family: arial\, helvetica\, sans-serif\; line-height: 18.2px\;">&#8203\;Average tournament length on course: 4.5&nbsp\;- 5&nbsp\;hours</span></li>\n	</ul>\n	</li>\n</ul>\n\n<p style="line-height: 130%\;"><br />\n<strong style="font-size: 14px\;"><span style="font-family: arial\, helvetica\, sans-serif\; line-height: 19.6px\;">Raffle tickets for fabulous prizes available for purchase at the event</span></strong><br />\n<br />\n<span style="color:#006937\;"><span style="font-family:arial black\,sans-serif\;"><span style="font-size:18.0pt\;">2025&nbsp\;Exclusive Experiences</span></span></span><br />\n<br />\n<strong style="font-family: arial\, helvetica\, sans-serif\; font-size: 16px\;"><span style="color: rgb(4\, 149\, 165)\; line-height: 22.4px\;">Pre-Purchase Game Bundles</span></strong><br />\n<span style="color:black\;"><span style="font-family:arial\,sans-serif\;"><span style="font-size:10.5pt\;">Avoid team delays at registration with our new Pre-Purchased Game Bundle. Purchase a bundle for your team and enhance the event experience. Each bundle includes:</span></span></span></p>\n\n<ul>\n	<li style="color:black\;line-height:14.7pt\;"><span style="font-family:arial\,sans-serif\;"><span style="font-size:10.5pt\;">4 Mulligans</span></span></li>\n	<li style="color:black\;line-height:14.7pt\;"><span style="font-family:arial\,sans-serif\;"><span style="font-size:10.5pt\;">3 Feet of Stroke Finishing String</span></span></li>\n	<li style="color:black\;line-height:14.7pt\;"><span style="font-family:arial\,sans-serif\;"><span style="font-size:10.5pt\;">4 Putts in the Putting Contest&nbsp\;</span></span></li>\n</ul>\n\n<div style="color:black\;line-height:14.7pt\;"><span style="font-family:arial\,sans-serif\;"><span style="font-size:10.5pt\;"><strong><span style="color:black\;"><span style="font-family:arial\,sans-serif\;"><span style="font-size:10.5pt\;">Pre-Purchase Game Bundle - $40 per team</span></span></span></strong></span></span><br />\n<br />\n<strong style="font-family: arial\, helvetica\, sans-serif\; font-size: 16px\;"><span style="color: rgb(4\, 149\, 165)\; line-height: 22.4px\;">Pre-Register for Raffles</span></strong><br />\n<span style="color: black\;"><span style="font-family: arial\, sans-serif\;"><span style="font-size: 10.5pt\;">Avoid hold-ups at the registration table by pre-registering for your raffle tickets. Indicate how many raffle tickets you want and provide your contact information\, and we&#39\;ll have them ready for you at the course!</span></span></span></div>\n\n<div style="color:black\;line-height:14.7pt\;"><br />\n<span style="color: black\;"><span style="font-family: arial\, sans-serif\;"><span style="font-size: 10.5pt\;"><strong>Raffle Tickets: $20 per arm length\, payment required at event</strong></span></span></span><br />\n<br />\n<span arial="" avant="" font-size:="" style="box-sizing: border-box\; font-weight: bolder\; color: rgb(139\, 197\, 64)\; font-family: ">Show your Support</span><br />\nSponsor this event and get your business name in front of over 100 local business leaders. Sponsorships include golf packages\, marketing opportunities\, and two complementary lunches for sponsors sitting at a hole.&nbsp\;<strong>Sponsorship commitment and payment due by Friday\, June 6th</strong>. Learn more about sponsorships on page nine&nbsp\;of our <a href="https://www.hudsonwi.org/assets/pdf/24HCC031+Sponsorship+Overview_Digital_SinglePages/">Sponsorship Brochure</a>.<br />\n<br />\nDonate a raffle item to this event and promote your business! Interested in providing a prize? Email <a href="mailto:info@hudsonwi.org">info@hudsonwi.org</a>.</div>\n
LOCATION:White Eagle Golf Club 316 White Eagle Trail Hudson\, WI 54016
UID:e.2450.34190
SEQUENCE:3
DTSTAMP:20260426T033703Z
URL:https://business.hudsonwi.org/events/details/chamber-golf-tournament-2025-34190
END:VEVENT

END:VCALENDAR
