BEGIN:VCALENDAR
VERSION:2.0
PRODID:-//ChamberMaster//Event Calendar 2.0//EN
METHOD:PUBLISH
X-PUBLISHED-TTL:P3D
REFRESH-INTERVAL:P3D
CALSCALE:GREGORIAN
BEGIN:VEVENT
DTSTART:20260622T163000Z
DTEND:20260622T230000Z
X-MICROSOFT-CDO-ALLDAYEVENT:FALSE
SUMMARY:Chamber Golf Tournament 2026
DESCRIPTION:Join us for the 29th Annual Hudson Area Chamber Golf Tournament!\n\n\n\nSpend a fun-filled day of golf\, networking\, and fun with fellow Chamber Members at this event scheduled for Monday\, June 22\, 2026. Join us for food\, drinks\, contests\, raffles\, and more!\n\n\n\nShotgun Start | Rain or Shine!\n\nYou will receive your starting hole number at registration. Play will follow a best-ball\, 18-hole\, four-member team scramble type tournament. Every player tees off\; and the best team shot is selected. All players hit their next shot from that position.\n\nOfficial rules and contests will be provided at the tournament. \n\n\n\nPricing\n\nMember - $185 / player\n\nMember Foursome - $740\n\nNon-Member - $205 / player\n\nNon-Member Foursome - $820 \n\n\n\nSign up early to reserve your spot before tickets sell out!\n\n\n\nAll registrations must be submitted by Monday\, June 15\, 2026. \n\n\n\nSchedule\n\n\n	Sponsor Registration & Set-Up: 9:00 a.m.\n	Registration: 10:00 a.m.\n	\n		 Driving Range will be open at this time\n	\n	\n	Shotgun Start: 11:30 a.m.\n	Happy Hour with Food: available at the end of golfing\n	\n		 Average tournament length on course: 4.5 - 5 hours\n	\n	\n\n\n\n\nRaffle tickets for fabulous prizes available for purchase at the event\n\n\n\n2026 Exclusive Experiences\n\n\n\nMore information to come! \n\n\n\nShow your Support\n\nSponsor this event and get your business name in front of over 100 local business leaders. Sponsorships include golf packages\, marketing opportunities\, and two complementary lunches for sponsors sitting at a hole. Sponsorship commitment and payment due by Friday\, June 5th. Learn more about sponsorships on page nine of our Sponsorship Brochure.\n\n\n\nDonate a raffle item to this event and promote your business! Interested in providing a prize? Email info@hudsonwi.org.
X-ALT-DESC;FMTTYPE=text/html:<p style="font-size: 14px\; line-height: 140%\;"><span style="font-size: 24px\; line-height: 33.6px\; font-family: 'arial black'\, 'avant garde'\, arial\; color: #006937\;">Join us for the 29<sup>th</sup> Annual Hudson Area Chamber Golf Tournament!</span><br />\n<br />\n<span style="font-family: arial\; font-size: 14px\;">Spend a fun-filled day of golf\, networking\, and fun with fellow Chamber Members at this event scheduled for Monday\, June 22\, 2026. Join us for food\, drinks\, contests\, raffles\, and more!</span><br />\n<br />\n<span style="font-family: 'arial black'\, 'avant garde'\, arial\; font-size: 18px\; line-height: 23.4px\; color: #8bc540\;"><strong>Shotgun Start | Rain or Shine!</strong></span><br />\n<span style="font-family: arial\, helvetica\, sans-serif\; line-height: 18.2px\;">You will receive your starting hole number at registration. Play will follow a best-ball\, 18-hole\, four-member team scramble type tournament. Every player tees off\; and the best team shot is selected. All players hit their next shot from that position.</span></p>\n\n<p style="line-height: 130%\;"><em style="font-size: 14px\;"><span style="font-family: arial\, helvetica\, sans-serif\; line-height: 18.2px\;">Official rules and contests will be provided at the tournament.&nbsp\;</span></em><br />\n<br />\n<span style="font-family: 'arial black'\, AvenirNext-Heavy\, 'avant garde'\, arial\; font-size: 18px\; line-height: 25.2px\; color: #8bc540\;">Pricing</span><br />\n<span style="font-family: arial\, helvetica\, sans-serif\; font-size: 14px\;">Member - $185&nbsp\;/ player</span><br style="font-family: arial\, helvetica\, sans-serif\; font-size: 14px\;" />\n<span style="font-family: arial\, helvetica\, sans-serif\; font-size: 14px\;">Member Foursome - $740</span><br style="font-family: arial\, helvetica\, sans-serif\; font-size: 14px\;" />\n<span style="font-family: arial\, helvetica\, sans-serif\; font-size: 14px\;">Non-Member - $205&nbsp\;/ player</span><br style="font-family: arial\, helvetica\, sans-serif\; font-size: 14px\;" />\n<span style="font-family: arial\, helvetica\, sans-serif\; font-size: 14px\;">Non-Member Foursome - $820&nbsp\;</span><br />\n<br />\nSign up early to reserve your spot before tickets sell out!<br />\n<br />\n<span style="color:#FF0000\;"><span style="text-decoration-line: underline\; line-height: 19.6px\;"><span style="line-height: 19.6px\;"><strong><span style="font-family: arial\, helvetica\, sans-serif\; font-size: 14px\; line-height: 19.6px\;">All registrations must be submitted by Monday\, June 15\, 2026.&nbsp\;</span></strong></span></span></span><br />\n<br />\n<span arial="" avant="" font-size:="" style="box-sizing: border-box\; font-weight: bolder\; color: rgb(139\, 197\, 64)\; font-family: ">Schedule</span></p>\n\n<ul>\n	<li style="font-size: 14px\; line-height: 18.2px\;"><span style="font-family: arial\, helvetica\, sans-serif\; line-height: 18.2px\;">Sponsor Registration &amp\; Set-Up: 9:00 a.m.</span></li>\n	<li style="font-size: 14px\; line-height: 18.2px\;"><span style="font-family: arial\, helvetica\, sans-serif\; line-height: 18.2px\;">Registration: 10:00 a.m.</span>\n	<ul>\n		<li style="font-size: 14px\; line-height: 18.2px\;"><span style="font-family: arial\, helvetica\, sans-serif\; line-height: 18.2px\;">&#8203\;Driving Range will be open at this time</span></li>\n	</ul>\n	</li>\n	<li style="font-size: 14px\; line-height: 18.2px\;"><span style="font-family: arial\, helvetica\, sans-serif\; line-height: 18.2px\;">Shotgun Start: 11:30 a.m.</span></li>\n	<li style="font-size: 14px\; line-height: 18.2px\;"><span style="font-family: arial\, helvetica\, sans-serif\; line-height: 18.2px\;">Happy Hour with Food: available at the end of golfing</span>\n	<ul>\n		<li style="font-size: 14px\; line-height: 18.2px\;"><span style="font-family: arial\, helvetica\, sans-serif\; line-height: 18.2px\;">&#8203\;Average tournament length on course: 4.5&nbsp\;- 5&nbsp\;hours</span></li>\n	</ul>\n	</li>\n</ul>\n\n<p style="line-height: 130%\;"><br />\n<strong style="font-size: 14px\;"><span style="font-family: arial\, helvetica\, sans-serif\; line-height: 19.6px\;">Raffle tickets for fabulous prizes available for purchase at the event</span></strong><br />\n<br />\n<span style="color:#006937\;"><span style="font-family:arial black\,sans-serif\;"><span style="font-size:18.0pt\;">2026&nbsp\;Exclusive Experiences</span></span></span><br />\n<br />\n<span style="color:black\;"><span style="font-family:arial\,sans-serif\;"><span style="font-size:10.5pt\;">More information to come!</span></span></span><span style="font-family:arial\,sans-serif\;"><span style="font-size:10.5pt\;">&#8203\;</span></span><br />\n<br />\n<span arial="" avant="" font-size:="" style="box-sizing: border-box\; font-weight: bolder\; color: rgb(139\, 197\, 64)\; font-family: ">Show your Support</span><br />\nSponsor this event and get your business name in front of over 100 local business leaders. Sponsorships include golf packages\, marketing opportunities\, and two complementary lunches for sponsors sitting at a hole.&nbsp\;<strong>Sponsorship commitment and payment due by Friday\, June 5th.&nbsp\;</strong>Learn more about sponsorships on page nine&nbsp\;of our <a href="https://www.hudsonwi.org/assets/pdf/25HCC049+Sponsorship+Overview_Digital_Single+Pages/">Sponsorship Brochure</a>.<br />\n<br />\nDonate a raffle item to this event and promote your business! Interested in providing a prize? Email <a href="mailto:info@hudsonwi.org">info@hudsonwi.org</a>.</p>\n
LOCATION:Kilkarney Hills Golf Course & Banquet Facility 163 Radio Rd. River Falls\, WI 54022
UID:e.2450.36993
SEQUENCE:3
DTSTAMP:20260419T123737Z
URL:https://business.hudsonwi.org/events/details/chamber-golf-tournament-2026-36993
END:VEVENT

END:VCALENDAR
