BEGIN:VCALENDAR
VERSION:2.0
PRODID:-//ChamberMaster//Event Calendar 2.0//EN
METHOD:PUBLISH
X-PUBLISHED-TTL:P3D
REFRESH-INTERVAL:P3D
CALSCALE:GREGORIAN
BEGIN:VEVENT
DTSTART:20240709T140000Z
DTEND:20240709T150000Z
X-MICROSOFT-CDO-ALLDAYEVENT:FALSE
SUMMARY:Connections & Coffee - 7/9/24
DESCRIPTION:Join us for our June meeting of Connections & Coffee!\n\n	Bring plenty of business cards for a business card exchange. \n	Continue to network and build relationships with other members of the business community.\n	Hear updates from the Chamber on how to connect and promote your business. \n\nPresenting at this meeting will be Sonya Breymeier with Sonya's Employment Options.
X-ALT-DESC;FMTTYPE=text/html:Join us for our June meeting of Connections &amp\; Coffee!\n<ul>\n	<li>Bring plenty of business cards for a business card exchange.&nbsp\;</li>\n	<li>Continue to network and build relationships with other members of the business community.</li>\n	<li>Hear updates from the Chamber on how to connect and promote your business.&nbsp\;</li>\n</ul>\nPresenting at this meeting will be Sonya Breymeier with Sonya&#39\;s Employment Options.
LOCATION:Citizens State Bank 375 Stageline Road
UID:e.2450.30608
SEQUENCE:3
DTSTAMP:20260425T221102Z
URL:https://business.hudsonwi.org/events/details/connections-coffee-7-9-24-30608
END:VEVENT

END:VCALENDAR
