BEGIN:VCALENDAR
VERSION:2.0
PRODID:-//ChamberMaster//Event Calendar 2.0//EN
METHOD:PUBLISH
X-PUBLISHED-TTL:P3D
REFRESH-INTERVAL:P3D
CALSCALE:GREGORIAN
BEGIN:VEVENT
DTSTART;VALUE=DATE:20240701
DTEND;VALUE=DATE:20240702
TRANSP:TRANSPARENT
X-MICROSOFT-CDO-ALLDAYEVENT:TRUE
SUMMARY:Crowler Monday at Hop & Barrel Brewing Company\, LLC
DESCRIPTION:Buy two crowlers\, get one free
X-ALT-DESC;FMTTYPE=text/html:Buy two crowlers\, get one free
LOCATION:Hop & Barrel Brewing Company\, LLC 310 2nd Street Hudson\, WI 54016
UID:e.2450.30628
SEQUENCE:3
DTSTAMP:20260425T221406Z
URL:https://business.hudsonwi.org/events/details/crowler-monday-at-hop-barrel-brewing-company-llc-30628
END:VEVENT

END:VCALENDAR
