BEGIN:VCALENDAR
VERSION:2.0
PRODID:-//ChamberMaster//Event Calendar 2.0//EN
METHOD:PUBLISH
X-PUBLISHED-TTL:P3D
REFRESH-INTERVAL:P3D
CALSCALE:GREGORIAN
BEGIN:VEVENT
DTSTART:20240221T220000Z
DTEND:20240221T223000Z
X-MICROSOFT-CDO-ALLDAYEVENT:FALSE
SUMMARY:Discover Dance Caregiver and Me Class
DESCRIPTION:Walking - Age 3 with Adult\n\n\n\nExplore the joy of movement with your little one and discover the many benefits of early childhood dance classes. We will dance\, sing\, and play in both one-on-one activities and group activities. Though circle songs\, open exploration\, and gross motor development exercises\, children will blossom with each passing class as they grow with their caregiver during this precious time together. \n\n\n\nSession class: Wednesdays from 4:00- 4:30 p.m. until May 29\n\n6 week sessions available \n\n\n\nDress: comfortable clothing
X-ALT-DESC;FMTTYPE=text/html:Walking - Age 3 with Adult<br />\n<br />\nExplore the joy of movement with your little one and discover the many benefits of early childhood dance classes. We will dance\, sing\, and play in both one-on-one activities and group activities. Though circle songs\, open exploration\, and gross motor development exercises\, children will blossom with each passing class as they grow with their caregiver during this precious time together.&nbsp\;<br />\n<br />\nSession class: Wednesdays from 4:00- 4:30 p.m. until May 29<br />\n6 week sessions available&nbsp\;<br />\n<br />\nDress: comfortable clothing
LOCATION:Helmer Dance Studio 2701 Enloe Street Hudson\, WI 54016
UID:e.2450.27706
SEQUENCE:3
DTSTAMP:20260422T105924Z
URL:https://business.hudsonwi.org/events/details/discover-dance-caregiver-and-me-class-02-21-2024-27706
END:VEVENT

END:VCALENDAR
