BEGIN:VCALENDAR
VERSION:2.0
PRODID:-//ChamberMaster//Event Calendar 2.0//EN
METHOD:PUBLISH
X-PUBLISHED-TTL:P3D
REFRESH-INTERVAL:P3D
CALSCALE:GREGORIAN
BEGIN:VEVENT
DTSTART:20210107T150000Z
DTEND:20210107T160000Z
X-MICROSOFT-CDO-ALLDAYEVENT:FALSE
SUMMARY:Event & Program Committee
DESCRIPTION:Meeting Reminder:\n\n\n\nJoin the conversation as we discuss planning for 2021  \n\n\n	Annual Meeting   push out or do virtually\n	Good Morning Hudson   January 19 program   February Common Council Candidate forums\n	Hudson Community Expo\n	And more!
X-ALT-DESC;FMTTYPE=text/html:<p style="color: rgb(51\, 51\, 51)\; font-family: sans-serif\, Arial\, Verdana\, &quot\;Trebuchet MS&quot\;\; font-size: 13px\;"><u><strong>Meeting Reminder:</strong></u><br />\n<br />\nJoin the conversation as we discuss planning for 2021 &ndash\;</p>\n\n<ul style="padding: 0px 40px\; color: rgb(51\, 51\, 51)\; font-family: sans-serif\, Arial\, Verdana\, &quot\;Trebuchet MS&quot\;\; font-size: 13px\;">\n	<li style="margin-left: 0in\;">Annual Meeting &ndash\; push out or do virtually</li>\n	<li style="margin-left: 0in\;">Good Morning Hudson &ndash\; January 19 program &ndash\; February Common Council Candidate forums</li>\n	<li style="margin-left: 0in\;">Hudson Community Expo</li>\n	<li style="margin-left: 0in\;">And more!</li>\n</ul>\n
LOCATION:Online Zoom
UID:e.2450.18760
SEQUENCE:3
DTSTAMP:20260421T133256Z
URL:https://business.hudsonwi.org/events/details/event-program-committee-18760
END:VEVENT

END:VCALENDAR
