BEGIN:VCALENDAR
VERSION:2.0
PRODID:-//ChamberMaster//Event Calendar 2.0//EN
METHOD:PUBLISH
X-PUBLISHED-TTL:P3D
REFRESH-INTERVAL:P3D
CALSCALE:GREGORIAN
BEGIN:VEVENT
DTSTART:20251004T190000Z
DTEND:20251005T000000Z
X-MICROSOFT-CDO-ALLDAYEVENT:FALSE
SUMMARY:Fall Harvest Fest at Camp St. Croix
DESCRIPTION:Join us on the farm at YMCA Camp St. Croix for the Fall Harvest Festival to celebrate the bountiful summer harvest! Come shop produce from local farms and enjoy the build your own pizza market\, meet the farmers\, watch ag educational demonstrations such as sheep dog herding\, horse-shoeing\, explore the high tunnels\, and take in the fall beauty of the Discovery Garden. Don't forget to say "hello!" to the chickens\, pet some kitties\, and listen to some old-time tunes from the fiddle and banjo (the barn dance starts at 5!)\, and catch a hayride around the farm or out to the giant swing** that will be open for business!\n\n \n\nClose out the evening with a barn dance at 5:00. Join us for a live band\, The Winsome Hollow String Band\, and caller. No need to know how to dance\, as the caller will teach us the steps together.
X-ALT-DESC;FMTTYPE=text/html:Join us on the farm at YMCA Camp St. Croix for the Fall Harvest Festival to celebrate the bountiful summer harvest! Come shop produce from local farms and enjoy the build your own pizza market\, meet the farmers\, watch ag educational demonstrations such as sheep dog herding\, horse-shoeing\, explore the high tunnels\, and take in the fall beauty of the Discovery Garden. Don&rsquo\;t forget to say &ldquo\;hello!&rdquo\; to the chickens\, pet some kitties\, and listen to some old-time tunes from the fiddle and banjo (the barn dance starts at 5!)\, and catch a hayride around the farm or out to the giant swing** that will be open for business!<br />\n&nbsp\;<br />\nClose out the evening with a barn dance at 5:00. Join us for a live band\, The Winsome Hollow String Band\, and caller. No need to know how to dance\, as the caller will teach us the steps together.<br />\n&nbsp\;<br />\n&nbsp\;
LOCATION:YMCA Camp St Croix North (Daycroix) Entrance 345 Riverview Drive
UID:e.2450.36462
SEQUENCE:3
DTSTAMP:20260420T021334Z
URL:https://business.hudsonwi.org/events/details/fall-harvest-fest-at-camp-st-croix-36462
END:VEVENT

END:VCALENDAR
