BEGIN:VCALENDAR
VERSION:2.0
PRODID:-//ChamberMaster//Event Calendar 2.0//EN
METHOD:PUBLISH
X-PUBLISHED-TTL:P3D
REFRESH-INTERVAL:P3D
CALSCALE:GREGORIAN
BEGIN:VEVENT
DTSTART:20210128T210000Z
DTEND:20210131T190000Z
X-MICROSOFT-CDO-ALLDAYEVENT:FALSE
SUMMARY:Family Campus
DESCRIPTION:Description: Never been to Camp before? Here's an opportunity only 30 minutes from the Twin Cities\, on the bluffs of the St. Croix river to embrace the snow and solitude. Try out what everyone's been talking about!
X-ALT-DESC;FMTTYPE=text/html:Description: Never been to Camp before? Here&rsquo\;s an opportunity only 30 minutes from the Twin Cities\, on the bluffs of the St. Croix river to embrace the snow and solitude. Try out what everyone&#39\;s been talking about!
LOCATION:YMCA Camp St. Croix 532 Co. Rd. F Hudson\, WI 54016 YMCA Camp St. Croix
UID:e.2450.18765
SEQUENCE:3
DTSTAMP:20260423T013327Z
URL:https://business.hudsonwi.org/events/details/family-campus-01-28-2021-18765
END:VEVENT

END:VCALENDAR
