BEGIN:VCALENDAR
VERSION:2.0
PRODID:-//ChamberMaster//Event Calendar 2.0//EN
METHOD:PUBLISH
X-PUBLISHED-TTL:P3D
REFRESH-INTERVAL:P3D
CALSCALE:GREGORIAN
BEGIN:VEVENT
DTSTART:20240708T010000Z
DTEND:20240708T040000Z
X-MICROSOFT-CDO-ALLDAYEVENT:FALSE
SUMMARY:Fireworks Dinner Cruise (Hudson)
DESCRIPTION:Fireworks Dinner Cruise (Hudson\, WI)\n\nJuly 7\, 2024\n\nGet a view of a magnificent fireworks display like you've never experienced before!\n\nGive yourself 20-30 minutes to park your vehicle\, or arrive at least 45 minutes early for boarding.\n\nMenu:\n\n\n	Herb Baked Chicken & Zesty BBQ Ribs\n	Pasta Salad\n	Caesar Salad\n	Potatoes\n	Vegetables\n	Rolls & Butter\n	Chef's choice Dessert\n\n\n*Menu is subject to change*\n\n\n\nWe accept Cash or Credit Card for the bar. \n\nCall 651-436-8883 for Reservations or online at www.stcroixrivercruises.com
X-ALT-DESC;FMTTYPE=text/html:<div><span style="font-family:arial"><span style="font-size:14px">Fireworks Dinner Cruise (Hudson\, WI)<br />\nJuly 7\, 2024</span></span></div>\n\n<p><span style="font-family:arial"><span style="font-size:14px">Get a view of a magnificent fireworks display like you&#39\;ve never experienced before!<br />\nGive yourself 20-30 minutes to park your vehicle\, or arrive at least 45 minutes early for boarding.</span></span></p>\n\n<p><span style="font-family:arial"><span style="font-size:14px">Menu:</span></span></p>\n\n<ul>\n	<li>Herb Baked Chicken &amp\; Zesty BBQ Ribs</li>\n	<li>Pasta Salad</li>\n	<li>Caesar Salad</li>\n	<li>Potatoes</li>\n	<li>Vegetables</li>\n	<li>Rolls &amp\; Butter</li>\n	<li>Chef&rsquo\;s choice Dessert</li>\n</ul>\n\n<p><span style="font-family:arial"><span style="font-size:14px">*Menu is subject to change*<br />\n<br />\nWe accept Cash or Credit Card for the bar.&nbsp\;<br />\nCall 651-436-8883 for Reservations&nbsp\;or online at <a href="http://www.stcroixrivercruises.com">www.stcroixrivercruises.com</a></span></span></p>\n
LOCATION:Boarding in Hudson\, WI. 98 Walnut Street. Hudson\, WI Arrive early as parking will be very busy. Don't miss the boat!
UID:e.2450.10239
SEQUENCE:3
DTSTAMP:20260425T221009Z
URL:https://business.hudsonwi.org/events/details/fireworks-dinner-cruise-10239
END:VEVENT

END:VCALENDAR
