BEGIN:VCALENDAR
VERSION:2.0
PRODID:-//ChamberMaster//Event Calendar 2.0//EN
METHOD:PUBLISH
X-PUBLISHED-TTL:P3D
REFRESH-INTERVAL:P3D
CALSCALE:GREGORIAN
BEGIN:VEVENT
DTSTART:20240705T010000Z
DTEND:20240705T040000Z
X-MICROSOFT-CDO-ALLDAYEVENT:FALSE
SUMMARY:Fireworks Display Cruise - (Cruising to Stillwater)
DESCRIPTION:STILLWATER FIREWORKS DISPLAY CRUISE\n\n\n\nEnjoy the Fireworks Display Cruise. \n\n\n\nYou will board the boat in Hudson and Cruise to Stillwater to Enjoy the Fireworks from the river.\n\n\n\nConcession food will be available for purchase.
X-ALT-DESC;FMTTYPE=text/html:<span style="font-size:16px"><span style="color:rgb(255\, 0\, 0)">STILLWATER FIREWORKS DISPLAY CRUISE</span></span><br />\n<br />\nEnjoy the Fireworks Display Cruise.&nbsp\;<br />\n<br />\nYou will board the boat in Hudson and Cruise to Stillwater to Enjoy the Fireworks from the river.<br />\n<br />\nConcession food will be available for purchase.&nbsp\;
LOCATION:98 Walnut St Hudson WI 54016
UID:e.2450.27561
SEQUENCE:3
DTSTAMP:20260425T221216Z
URL:https://business.hudsonwi.org/events/details/fireworks-display-cruise-cruising-to-stillwater-27561
END:VEVENT

END:VCALENDAR
