BEGIN:VCALENDAR
VERSION:2.0
PRODID:-//ChamberMaster//Event Calendar 2.0//EN
METHOD:PUBLISH
X-PUBLISHED-TTL:P3D
REFRESH-INTERVAL:P3D
CALSCALE:GREGORIAN
BEGIN:VEVENT
DTSTART:20251004T180000Z
DTEND:20251005T000000Z
X-MICROSOFT-CDO-ALLDAYEVENT:FALSE
SUMMARY:Fourth Annual Booyah
DESCRIPTION:Celebrate Hudson spirit at the annual Booyah\, a community gathering that features a traditional fall stew\, activities\, games and fun for the whole family.\n\n\n\nFun activities: Little Blue's Traveling Zoo\, the library's Wiggles & Giggles Outdoor play area\, lawn games and a golden opportunity to explore emergency vehicles. Free event\, food for purchase. \n\n\n\nThe Golden Rule Initiative strives for civility\, respect & understanding in our daily interactions by encouraging the practice of the Golden Rule throughout greater Hudson.
X-ALT-DESC;FMTTYPE=text/html:<span style="color:black\;"><span style="font-family:calibri\,sans-serif\;"><span style="font-size:11.0pt\;">Celebrate Hudson spirit at the annual Booyah\, a community gathering that features a traditional fall stew\, activities\, games and fun for the whole family.<br />\n<br />\nFun activities: Little Blue&#39\;s Traveling Zoo\, the library&#39\;s Wiggles &amp\; Giggles Outdoor play area\, lawn games and a golden opportunity to explore emergency vehicles. Free event\, food for purchase.&nbsp\;<br />\n<br />\nThe Golden Rule Initiative strives for civility\, respect &amp\; understanding in our daily interactions by encouraging the practice of the Golden Rule throughout greater Hudson.&nbsp\;</span></span></span>
LOCATION:Weitkamp Park 648 O'Neil Rd Hudson\, WI 54016
UID:e.2450.36373
SEQUENCE:3
DTSTAMP:20260420T021334Z
URL:https://business.hudsonwi.org/events/details/fourth-annual-booyah-36373
END:VEVENT

END:VCALENDAR
