BEGIN:VCALENDAR
VERSION:2.0
PRODID:-//ChamberMaster//Event Calendar 2.0//EN
METHOD:PUBLISH
X-PUBLISHED-TTL:P3D
REFRESH-INTERVAL:P3D
CALSCALE:GREGORIAN
BEGIN:VEVENT
DTSTART:20240917T193000Z
DTEND:20240917T223000Z
X-MICROSOFT-CDO-ALLDAYEVENT:FALSE
SUMMARY:FREE Electronics Collection Event for St. Croix County Residents
DESCRIPTION:Many items can be recycled\, but do not belong in your curbside bin or town's drop-off center. Bring your electronics to the county-sponsored collection event on Tuesday\, September 17th. Electronics will be accepted for FREE!\n\n \n\n  St. Croix County Highway Department   Baldwin\n\n300 Oak Ridge Parkway\, Baldwin\, WI 54002\n\n2:30pm   6:30pm\n\n\n\nFor more details on what to bring to the event\, go to:\n\nhttps://www.sccwi.gov/1042/Collection-Events
X-ALT-DESC;FMTTYPE=text/html:<div>Many items can be recycled\, but do not belong in your curbside bin or town&#39\;s drop-off center. Bring your electronics to the county-sponsored collection event on Tuesday\, September 17th. Electronics will be accepted for FREE!<br />\n&nbsp\;</div>\n\n<div>&bull\; St. Croix County Highway Department &ndash\; Baldwin<br />\n300 Oak Ridge Parkway\, Baldwin\, WI 54002<br />\n2:30pm &ndash\; 6:30pm<br />\n<br />\nFor more details on what to bring to the event\, go to:<br />\n<a class="x1i10hfl xjbqb8w x1ejq31n xd10rxx x1sy0etr x17r0tee x972fbf xcfux6l x1qhh985 xm0m39n x9f619 x1ypdohk xt0psk2 xe8uvvx xdj266r x11i5rnm xat24cr x1mh8g0r xexx8yu x4uap5 x18d9i69 xkhd6sd x16tdsg8 x1hl2dhg xggy1nq x1a2a7pz x1sur9pj xkrqix3 x1fey0fg" href="https://www.sccwi.gov/1042/Collection-Events?fbclid=IwZXh0bgNhZW0CMTAAAR0t4oFineAEaIatyfHO5wy_3GH0WQDRwxd2kzH6ejBgH0m2cmFzyBZ0dCU_aem_2ggG_h6_XvQqkJaFHSjUxA" rel="nofollow noreferrer" style="color: var(--blue-link)\; cursor: pointer\; text-decoration-line: none\; list-style: none\; margin: 0px\; text-align: inherit\; border-style: none\; padding: 0px\; box-sizing: border-box\; border-width: 0px\; outline: none\; -webkit-tap-highlight-color: transparent\; touch-action: manipulation\; background-color: transparent\; display: inline\; font-family: inherit\;" tabindex="0" target="_blank">https://www.sccwi.gov/1042/Collection-Events</a>&nbsp\;</div>\n
LOCATION:St. Croix County Highway Department 300 Oak Ridge Parkway\, Baldwin\, WI 54002
UID:e.2450.30702
SEQUENCE:3
DTSTAMP:20260419T193708Z
URL:https://business.hudsonwi.org/events/details/free-electronics-collection-event-for-st-croix-county-residents-30702
END:VEVENT

END:VCALENDAR
