BEGIN:VCALENDAR
VERSION:2.0
PRODID:-//ChamberMaster//Event Calendar 2.0//EN
METHOD:PUBLISH
X-PUBLISHED-TTL:P3D
REFRESH-INTERVAL:P3D
CALSCALE:GREGORIAN
BEGIN:VEVENT
DTSTART:20220519T163000Z
DTEND:20220519T180000Z
X-MICROSOFT-CDO-ALLDAYEVENT:FALSE
SUMMARY:Good Morning Hudson: Create a Winning Culture
DESCRIPTION:Bonus Features:\n\n\n	New Member Introductions\n	Build Connections ? bring plenty of business cards \n	What?s Hot in the Community Announcements
X-ALT-DESC;FMTTYPE=text/html:<p font-size:="" trebuchet="">&nbsp\;</p>\n\n<p font-size:="" trebuchet=""><strong>Bonus Features:</strong></p>\n\n<ul>\n	<li>New Member Introductions</li>\n	<li>Build Connections ? bring plenty of business cards&nbsp\;</li>\n	<li>What?s Hot in the Community Announcements</li>\n</ul>\n
LOCATION:Troy Burne Golf Club
UID:e.2450.21064
SEQUENCE:3
DTSTAMP:20260420T175649Z
URL:https://business.hudsonwi.org/events/details/good-morning-hudson-create-a-winning-culture-21064
END:VEVENT

END:VCALENDAR
