BEGIN:VCALENDAR
VERSION:2.0
PRODID:-//ChamberMaster//Event Calendar 2.0//EN
METHOD:PUBLISH
X-PUBLISHED-TTL:P3D
REFRESH-INTERVAL:P3D
CALSCALE:GREGORIAN
BEGIN:VEVENT
DTSTART:20251031T210000Z
DTEND:20251101T010000Z
X-MICROSOFT-CDO-ALLDAYEVENT:FALSE
SUMMARY:Halloween Costume Contest
DESCRIPTION:Show off your best costume at Belle Ame on Oct 31 from 4-8pm. Enjoy festive drinks\, fun\, and prizes for the top costumes.
X-ALT-DESC;FMTTYPE=text/html:Show off your best costume at Belle Ame on Oct 31 from 4-8pm. Enjoy festive drinks\, fun\, and prizes for the top costumes.
LOCATION:Belle Ame Vineyard
UID:e.2450.36441
SEQUENCE:3
DTSTAMP:20260420T021312Z
URL:https://business.hudsonwi.org/events/details/halloween-costume-contest-36441
END:VEVENT

END:VCALENDAR
