BEGIN:VCALENDAR
VERSION:2.0
PRODID:-//ChamberMaster//Event Calendar 2.0//EN
METHOD:PUBLISH
X-PUBLISHED-TTL:P3D
REFRESH-INTERVAL:P3D
CALSCALE:GREGORIAN
BEGIN:VEVENT
DTSTART:20191110T000000Z
DTEND:20191110T030000Z
X-MICROSOFT-CDO-ALLDAYEVENT:FALSE
SUMMARY:Hearts Matter: Leaves & Laughter benefit for the Free Clinic of Pierce & St. Croix Counties
DESCRIPTION:You and your guests will get a dose of laughter from professional comedians\, nosh on delicious eats and treats\, bid on dessert and silent auction items\, and rub elbows with other local business owners and Free Clinic volunteers and supporters\, all benefiting the Free Clinic of Pierce & St. Croix Counties.\n\n\n\nEnjoy the age-old wisdom of "Laughter is good medicine" before the stress of the holidays!\n\nPurchase your $25 tickets HERE.
X-ALT-DESC;FMTTYPE=text/html:You and your guests will get a dose of laughter from professional comedians\, nosh on delicious eats and treats\, bid on dessert and silent auction items\, and rub elbows with other local business owners and Free Clinic volunteers and supporters\, all benefiting the Free Clinic of Pierce &amp\; St. Croix Counties.<br />\n<br />\nEnjoy the age-old wisdom of &quot\;Laughter is good medicine&quot\; before the stress of the holidays!<br />\nPurchase your $25 tickets&nbsp\;<a href="https://freeclinicofpierceandstcroixcounties.salsalabs.org/heartsmatterfundraisingevent/index.html?fbclid=IwAR0-yysIcZ4Y3DuXvjDojgBWgz1iaqfi9dVxZAOqvIoWYY9OczEqh1Vlos8">HERE</a>.
LOCATION:Junior's Restaurant and Tap House 414 S Main St River Falls\, WI 54022
UID:e.2450.14549
SEQUENCE:3
DTSTAMP:20260424T000908Z
URL:https://business.hudsonwi.org/events/details/hearts-matter-leaves-laughter-benefit-for-the-free-clinic-of-pierce-st-croix-counties-14549
END:VEVENT

END:VCALENDAR
