BEGIN:VCALENDAR
VERSION:2.0
PRODID:-//ChamberMaster//Event Calendar 2.0//EN
METHOD:PUBLISH
X-PUBLISHED-TTL:P3D
REFRESH-INTERVAL:P3D
CALSCALE:GREGORIAN
BEGIN:VEVENT
DTSTART:20210112T160000Z
DTEND:20210112T210000Z
X-MICROSOFT-CDO-ALLDAYEVENT:FALSE
SUMMARY:Homeschool Program: How Animals Survive the Winter
DESCRIPTION:Find more program information and registration fees on the website: https://www.ymcanorth.org/camps/camp_st_croix/schools_retreats__group_rentals/homeschool_program/day_programs
X-ALT-DESC;FMTTYPE=text/html:Find more program information and registration fees on the website: https://www.ymcanorth.org/camps/camp_st_croix/schools_retreats__group_rentals/homeschool_program/day_programs
LOCATION:532 Co. Rd. F Hudson\, WI 54016 YMCA Camp St. Croix
UID:e.2450.18776
SEQUENCE:3
DTSTAMP:20260423T011603Z
URL:https://business.hudsonwi.org/events/details/homeschool-program-how-animals-survive-the-winter-18776
END:VEVENT

END:VCALENDAR
