BEGIN:VCALENDAR
VERSION:2.0
PRODID:-//ChamberMaster//Event Calendar 2.0//EN
METHOD:PUBLISH
X-PUBLISHED-TTL:P3D
REFRESH-INTERVAL:P3D
CALSCALE:GREGORIAN
BEGIN:VEVENT
DTSTART:20190412T230000Z
DTEND:20190412T230000Z
X-MICROSOFT-CDO-ALLDAYEVENT:FALSE
SUMMARY:Honky Tonk Laundry
DESCRIPTION:Move over\, Thelma and Louise! When Lana Mae Hopkins\, owner and proprietress of the Wishy Washy Washateria\, hires Katie to help out in the laundromat\, they soon find themselves up to their elbows in soap\, suds\, and cheatin? hearts. Watch these two country angels join forces to turn their good ol? laundromat into a bootscootin? honky-tonk\, exacting a touch of revenge against those that done ?em wrong\, all while guaranteeing every customer a good\, clean time!\n\n\n\nTake a ride to Nashville heaven in this musical from Roger Bean ("The Marvelous Wonderettes" and "Life Could Be A Dream"). "Honky Tonk Laundry" features the music of Carrie Underwood\, Trisha Yearwood\, Martina McBride\, Reba McEntire\, Sara Evans\, The Dixie Chicks\, Chely Wright\, Dolly Parton\, Pam Tillis\, Gretchen Wilson\, Terri Cark\, Tammy Wynette\, Loretta Lynn\, and Patsy Cline! Watch out now ?cuz we might do some yodelin?\, too.
X-ALT-DESC;FMTTYPE=text/html:Move over\, Thelma and Louise! When Lana Mae Hopkins\, owner and proprietress of the Wishy Washy Washateria\, hires Katie to help out in the laundromat\, they soon find themselves up to their elbows in soap\, suds\, and cheatin? hearts. Watch these two country angels join forces to turn their good ol? laundromat into a bootscootin? honky-tonk\, exacting a touch of revenge against those that done ?em wrong\, all while guaranteeing every customer a good\, clean time!<br>\n<br>\nTake a ride to Nashville heaven in this musical from Roger Bean ("The Marvelous Wonderettes" and "Life Could Be A Dream"). "Honky Tonk Laundry" features the music of Carrie Underwood\, Trisha Yearwood\, Martina McBride\, Reba McEntire\, Sara Evans\, The Dixie Chicks\, Chely Wright\, Dolly Parton\, Pam Tillis\, Gretchen Wilson\, Terri Cark\, Tammy Wynette\, Loretta Lynn\, and Patsy Cline! Watch out now ?cuz we might do some yodelin?\, too.
LOCATION:St. Croix Off Broadway Dinner Theatre\, 1616 Crest View Drive\, Hudson
UID:e.2450.13988
SEQUENCE:3
DTSTAMP:20260423T094101Z
URL:https://business.hudsonwi.org/events/details/honky-tonk-laundry-04-12-2019-13988
END:VEVENT

END:VCALENDAR
