BEGIN:VCALENDAR
VERSION:2.0
PRODID:-//ChamberMaster//Event Calendar 2.0//EN
METHOD:PUBLISH
X-PUBLISHED-TTL:P3D
REFRESH-INTERVAL:P3D
CALSCALE:GREGORIAN
BEGIN:VEVENT
DTSTART;VALUE=DATE:20240704
DTEND;VALUE=DATE:20240708
TRANSP:TRANSPARENT
X-MICROSOFT-CDO-ALLDAYEVENT:TRUE
SUMMARY:Hudson Booster Days 2024
DESCRIPTION:BOOSTER DAYS OVERVIEW\n\nBooster Days is the annual 4th of July Celebration held in Lakefront Park\, near historic downtown Hudson\, along the scenic St Croix River.  This event draws crowds from Hudson and surrounding counties.\n\n\n\nBOOSTER DAYS SCHEDULE OF EVENTS\n\n Booster Days Parade will be held on Saturday\, July 6\, on Second Street and the Fireworks are Sunday\, July 7 at dusk.\n\n\n	Thursday July 4 - carnival only\, evening\n	Friday July 5 - beer garden\, bingo\, bands and activities\n	Saturday July 6 - parade at 11 a.m.\, beer garden\, bingo\, bands and activities\n	Sunday July 7 - beer garden\, bingo\, bands and activities - FIREWORKS AT DUSK!\n\n\n\n\nThere is no cover charge for the live music.\n\nMore information at the Hudson Booster website.\n\n\n\nDiscover Where to Stay in Hudson\n\nHudson is home to several fantastic places to stay. Choose from locations that offer indoor pools\, jacuzzi suites\, pet-friendly accommodations\, or a historic B&B. Start planning and discover places to stay in Hudson\, Wisconsin at https://www.hudsonwi.org/discover/stay.
X-ALT-DESC;FMTTYPE=text/html:<p color:="" font-size:="" font-weight:="" line-height:="" titillium=""><strong>BOOSTER DAYS OVERVIEW</strong><br />\nBooster Days is the annual 4th of July Celebration held in Lakefront Park\, near historic downtown Hudson\, along the scenic St Croix River. &nbsp\;This event draws crowds from Hudson and surrounding counties.<br />\n<br />\n<strong>BOOSTER DAYS SCHEDULE OF EVENTS</strong><br />\n&nbsp\;Booster Days Parade will be held on Saturday\, July 6\,&nbsp\;on Second Street and the Fireworks are Sunday\, July 7&nbsp\;at dusk.</p>\n\n<ul>\n	<li color:="" font-size:="" font-weight:="" line-height:="" titillium="">Thursday July 4&nbsp\;- carnival only\, evening</li>\n	<li color:="" font-size:="" font-weight:="" line-height:="" titillium="">Friday July 5&nbsp\;- beer garden\, bingo\, bands and activities</li>\n	<li color:="" font-size:="" font-weight:="" line-height:="" titillium="">Saturday July 6 - <b>parade at 11 a.m.\,&nbsp\;</b>beer garden\, bingo\, bands and activities</li>\n	<li color:="" font-size:="" font-weight:="" line-height:="" titillium="">Sunday July 7&nbsp\;-&nbsp\;beer garden\, bingo\, bands and activities -&nbsp\;<strong>FIREWORKS AT DUSK!</strong></li>\n</ul>\n\n<p color:="" font-size:="" font-weight:="" line-height:="" titillium=""><br />\nThere is no cover charge for the live music.<br />\nMore information at the <a href="https://www.hudsonboosters.org/page/show/657024-booster-days-hudson-s-4th-of-july-celebration-">Hudson Booster website.</a><br />\n<br />\n<strong>Discover Where to Stay in Hudson</strong><br />\nHudson is home to several fantastic places to stay. Choose from locations that offer indoor pools\, jacuzzi suites\, pet-friendly accommodations\, or a historic B&amp\;B. Start planning and discover places to stay in Hudson\, Wisconsin at&nbsp\;<a href="https://www.hudsonwi.org/discover/stay">https://www.hudsonwi.org/discover/stay</a>.&nbsp\;</p>\n
LOCATION:Lakefront Park First Street Hudson\, WI 54016
UID:e.2450.29130
SEQUENCE:3
DTSTAMP:20260425T201308Z
URL:https://business.hudsonwi.org/events/details/hudson-booster-days-2024-29130
END:VEVENT

END:VCALENDAR
