BEGIN:VCALENDAR
VERSION:2.0
PRODID:-//ChamberMaster//Event Calendar 2.0//EN
METHOD:PUBLISH
X-PUBLISHED-TTL:P3D
REFRESH-INTERVAL:P3D
CALSCALE:GREGORIAN
BEGIN:VEVENT
DTSTART:20230914T210000Z
DTEND:20230914T230000Z
X-MICROSOFT-CDO-ALLDAYEVENT:FALSE
SUMMARY:Hudson Chamber MAX 2023
DESCRIPTION:Strengthen the Connection at Hudson Chamber MAX \n\nChamber MAX is back\, and this year\, we are celebrating existing members and helping potential members to learn about the Chamber Membership\, Awareness\, and eXperience. Members are encouraged to invite any Hudson area businesses to learn about our opportunities. Plus\, bring a potential new member as a guest\, and you could win a prize! Nonmembers are also welcome to attend to learn more about the Chamber and enter to win great prizes. \n\n\n\nThis event is free of charge food and drink will be provided. Attire is business casual. Bring plenty of business cards! The agenda for the evening is:\n\n4:00 p.m. Photos of Members & Booth Exploration\n\n5:15 p.m. Brief Program from Chamber & Board Presidents\n\n5:45 p.m. Winners Announced\n\n\n\nMAXimize Your Opportunities at Hudson Chamber MAX:\n\n\n	Celebrate New and Milestone Chamber Members\n	Discover Ways to MAXiply Your Membership\n	Create Connections and Expand Your Network\n	Enter to Win a Variety of Community Engagement Prizes\n\n\nPrizes Include: \n\n\n	Chamber Checks\n	Gift Baskets\n	Tour of Home Tickets\n	New Member Feature Promotion\n	Free Expo Booth \n\n\nPlease RSVP by September 13\, 2023\n\n \n\nThank you to our:\n\nEvent sponsors\, Citizen State Bank\, and Croix Gear\n\nFood and beverage sponsors\, Smokey Treats Barbecue Restaurant and Lucky's Wine and More\n\nVenue sponsor\, Striker Brands\, LLC\n\nPrinting sponsor\, Bayport Printing House\n\nDesign Sponsor\, Christiansen Creative
X-ALT-DESC;FMTTYPE=text/html:<h4><strong><span style="font-family:arial\;"><span style="font-size:18px\;"><span style="font-size:20px\;">Strengthen the Connection at Hudson Chamber MAX</span>&nbsp\;</span></span></strong></h4>\n\n<div style="margin-left:2.25pt\;"><span style="font-family:arial\;"><span style="font-size:16px\;">Chamber MAX is back\, and this year\, we are celebrating existing members and helping potential members to learn about the Chamber Membership\, Awareness\, and eXperience.&nbsp\;Members are encouraged to invite any Hudson area businesses to learn about our opportunities. Plus\, bring a potential new member as a guest\, and you could win a prize! Nonmembers are also welcome to attend to learn more about the Chamber and enter to win great prizes.&nbsp\;<br />\n<br />\nThis event is free of charge&mdash\;food and drink will be provided. Attire is business casual. Bring plenty of business cards!&nbsp\;The agenda for the evening is:<br />\n4:00 p.m. Photos of Members &amp\; Booth Exploration<br />\n5:15 p.m. Brief Program from Chamber &amp\; Board Presidents<br />\n5:45 p.m. Winners Announced<br />\n<br />\n<strong>MAXimize Your Opportunities at Hudson Chamber MAX:</strong></span></span></div>\n\n<ul>\n	<li style="margin-left: 2.25pt\;"><span style="font-family:arial\;"><span style="font-size:16px\;">Celebrate New and Milestone Chamber Members</span></span></li>\n	<li style="margin-left: 2.25pt\;"><span style="font-family:arial\;"><span style="font-size:16px\;">Discover Ways to MAXiply Your Membership</span></span></li>\n	<li style="margin-left: 2.25pt\;"><span style="font-family:arial\;"><span style="font-size:16px\;">Create Connections and Expand Your Network</span></span></li>\n	<li style="margin-left: 2.25pt\;"><span style="font-family:arial\;"><span style="font-size:16px\;">Enter to Win a Variety of Community Engagement Prizes</span></span></li>\n</ul>\n\n<div style="margin-left:2.25pt\;"><span style="font-family:arial\;"><span style="font-size:16px\;"><span style="caret-color: rgb(0\, 0\, 0)\; text-size-adjust: auto\;"><strong>Prizes Include:</strong>&#8203\;</span></span></span></div>\n\n<ul>\n	<li style="margin-left:2.25pt\;"><span style="font-family:arial\;"><span style="font-size:16px\;"><span style="caret-color: rgb(0\, 0\, 0)\; text-size-adjust: auto\;">Chamber Checks</span></span></span></li>\n	<li style="margin-left:2.25pt\;"><span style="font-family:arial\;"><span style="font-size:16px\;"><span style="caret-color: rgb(0\, 0\, 0)\; text-size-adjust: auto\;">Gift Baskets</span></span></span></li>\n	<li style="margin-left:2.25pt\;"><span style="font-family:arial\;"><span style="font-size:16px\;"><span style="caret-color: rgb(0\, 0\, 0)\; text-size-adjust: auto\;">Tour of Home Tickets</span></span></span></li>\n	<li style="margin-left:2.25pt\;"><span style="font-family:arial\;"><span style="font-size:16px\;"><span style="caret-color: rgb(0\, 0\, 0)\; text-size-adjust: auto\;">New Member Feature Promotion</span></span></span></li>\n	<li style="margin-left:2.25pt\;"><span style="font-family:arial\;"><span style="font-size:16px\;"><span style="caret-color: rgb(0\, 0\, 0)\;">Free Expo Booth&nbsp\;</span></span></span></li>\n</ul>\n\n<div style="margin-left:2.25pt\;"><span style="font-size:18px\;"><span style="font-family:arial\;"><strong>Please RSVP by September 13\, 2023</strong></span></span>\n\n<div style="margin-left: 2.25pt\;">&nbsp\;</div>\n\n<p>Thank you to our:<br />\nEvent sponsors\, Citizen State Bank\, and Croix Gear<br />\nFood and beverage sponsors\, Smokey Treats Barbecue Restaurant and Lucky&#39\;s Wine and More<br />\nVenue sponsor\, Striker Brands\, LLC<br />\nPrinting sponsor\, Bayport Printing House<br />\nDesign Sponsor\, Christiansen Creative</p>\n\n<div style="margin-left: 2.25pt\;">&nbsp\;</div>\n</div>\n
LOCATION:Striker Brands\, LLC 651 Commerce Drive
UID:e.2450.23791
SEQUENCE:3
DTSTAMP:20260420T203730Z
URL:https://business.hudsonwi.org/events/details/hudson-chamber-max-2023-23791
END:VEVENT

END:VCALENDAR
