BEGIN:VCALENDAR
VERSION:2.0
PRODID:-//ChamberMaster//Event Calendar 2.0//EN
METHOD:PUBLISH
X-PUBLISHED-TTL:P3D
REFRESH-INTERVAL:P3D
CALSCALE:GREGORIAN
BEGIN:VEVENT
DTSTART;VALUE=DATE:20241122
DTEND;VALUE=DATE:20241125
TRANSP:TRANSPARENT
X-MICROSOFT-CDO-ALLDAYEVENT:TRUE
SUMMARY:Hudson Christmas Tour of Homes 2024
DESCRIPTION:Now in its 38th year\, the Hudson Christmas Tour of Homes continues to feature lavishly decorated themed trees\, dining tables overflowing with exceptional and unique treasures\, gorgeous wreaths\, embellished windows\, and decorations that will awaken holiday memories. You will be delighted and amazed visiting this year's four homes\, the historic Octagon House\, and a hidden treasure.\n\n\n\nPlease note: Children 12 years and older are welcome to attend.\n\n\n\nGet Your Tickets for:\n\n\n\nTRADITIONAL TOUR (tickets available) \n\nSaturday\, November 23rd\, 10:00am-5:00pm \n\nSunday\, November 24th\, 12:00pm-4:00pm \n\nThis popular daytime tour features four privately owned homes\, a hidden treasure\, and the historic Octagon House Museum decorated for the holiday season. \n\nThe Traditional Tour includes a FREE optional shuttle service with stops to dine and shop along the way during the hours of the traditional tour only. For convenient parking and shuttle service\, start your tour at Plaza 94 by parking at the South Side of Ward Ave Parking Lot. Parking is free. (For returning tour attendees\, please note that the shuttle will not stop at Hudson House Grand Hotel.)\n\n\n\nTicket Price: $29.00 \n\n_______________________________________________________________________________\n\n\n\nEvening Dazzle Tour Sold Out\n\nFriday ONLY\, November 22nd\, 6:00pm-9:00pm\n\n Visit four privately-owned homes and our hidden treasure during the evening hours when each home sparkles and glows!  \n\nTransportation is NOT included.\n\nYour ticket is also good for touring the historic Octagon House only on Saturday or Sunday. \n\n \n\nTicket Price: $40.00 \n\n\n\n*Tickets purchased by November 13 will be entered into the Door Prize drawings at local stores and the Grand Prize drawing in each home.\n\n_______________________________________________________________________________\n\n\n\nPRIZES FOR TICKET HOLDERS\n\nGrand Prizes Donated By:\n\n  Droplets of Wellness\, LLC\n\n  Grand F te\n\n  kudos\n\n  The 715\n\n  The Bees Knees\n\nPlus additional door prize opportunities at participating Purple Bow businesses:\n\n  Abigail Page Antique Mall\n\n  ABOUT House\n\n  Angel's Pet World\n\n  BackRoom Vintage\n\n  Beloved Makers and Co\n\n  Blooms for Happiness\n\n  Chapter2 Books\n\n  Cream of the Crop Artists Gallery\n\n  Droplets of Wellness\, LLC\n\n  et cetera\n\n  Grand F te\n\n  Hudson Flower Shop\n\n  kudos\n\n  La Rue March \n\n  Mainstream Boutique\n\n  Rose & Lavender\n\n  SEASONS Gallery\n\n  The Bees Knees\n\n  The Purple Tree\n\n  The 715\n\n\n\nPURCHASE TICKETS \n\nIn-office or online:\n\n715.386.8411 || www.HudsonWI.org\n\nHudson Area Chamber of Commerce & Tourism Bureau\, 219 2nd Street\, Hudson\, WI 54016\n\nMonday-Friday\, 8:30 AM-4:30 PM  \n\nTour of Homes event office hours: Saturday-11/23\, 9:00am-5:00pm | Sunday-11/24\, 11:00am-4:00pm\n\n\n	Map and details are provided with your ticket order. \n	Sorry\, NO REFUNDS.  \n	Children 12 years and older are welcome to attend.\n	Wear socks as you will need to remove your shoes at each of the homes. Plastic bags will be available to put your shoes in.\n	No pets\, please!\n	No large bags/backpacks will be allowed into the homes.\n	No food or drink will be allowed into the homes.\n\nTicket Holders who choose to pick up their tickets will receive a call when their tickets are available. Ticket holders who choose to have their tickets mailed will receive their tickets closer to the event date.\n\n_____________________________________________________________________________________________\n\n\n\nTOUR LOCATIONS\n\n\n\n\n\nOctagon House Museum\n\nThe Octagon House Museum\, built in 1855 and furnished in mid-19th century style\, will surround visitors with the warm Christmas traditions of the Moffat-Hughes Family. It is bedecked with wreathes in the windows\, decorations adorning the tree\, gifts ready for giving\, music and games ready for playing\, and the dining room table set for holiday feasting.\n\n\n\nHome #1\n\nBuilt in 1861\, this Italianate-style home features a diverse mix of textures\, colors\, and furnishings showcasing a French country chic aesthetic. Christmas trees abound\, with each room displaying a different holiday theme and style. Unique characteristics include four different staircases\, four exit and entrance doors in each direction\, and an array of windows featuring beautiful views.  \n\n\n\nHome #2\n\nDiscover this 2023-built\, one-level home\, elegantly decorated in a charming buffalo check holiday theme. With a vast collection of snow babies and a blend of cool whites and grays\, this home radiates sophistication. Natural light floods the space\, highlighting vaulted ceilings and seamless Christmas d cor inside and out.  \n\n\n\nHome #3\n\nThis Arts and Craft-style bungalow was built in 1920. Its holiday theme is gold\, silver\, and cream\, with wood and feather accents - traditional in style with the focus on warm and cozy. Look for the hidden laundry/utility room accessed only through a bookcase.  \n\n\n\nHome #4\n\nThis 1960 modern ranch-style home boasts an eclectic d cor with numerous mid-century\, modern handcrafted pieces. Visitors will enter a vintage Christmas party\, with each room highlighting a distinct theme\, Hudson memorabilia\, and playful elements that reflect the era of the home?s construction. \n\n\n\nNew This Year\n\nThis holiday\, we're excited to reveal a hidden treasure ? an 1880s historic landmark\, festively transformed into a whimsical holiday haven. Join us for this enchanting experience\, where history and holiday magic blend seamlessly to create an unforgettable experience. \n\n\n\n_______________________________________________________________________________\n\n\n\nDiscover Where to Stay in Hudson\n\nHudson is home to several fantastic places to stay. Choose from locations that offer indoor pools\, jacuzzi suites\, and pet-friendly accommodations. Start planning and discover places to stay in Hudson\, Wisconsin at https://www.hudsonwi.org/discover/stay. \n\n_______________________________________________________________________________\n\n \n\n\n\nFor any additional questions please call or email: 715.386.8411 || info@hudsonwi.org\n\n\n\n\nInterested in having your home featured on the tour in 2025? Please email info@hudsonwi.org.
X-ALT-DESC;FMTTYPE=text/html:<p><font face="arial"><span style="font-size: 14px\;">Now in its 38th year\, the Hudson Christmas Tour of Homes continues to feature lavishly decorated themed trees\, dining tables overflowing with exceptional and unique treasures\, gorgeous wreaths\, embellished windows\, and decorations that will awaken holiday memories. You will be delighted and amazed visiting this year&#39\;s four homes\,&nbsp\;the historic Octagon House\, and a hidden treasure.</span></font><br />\n<br />\n<strong>Please note: Children 12 years and older are welcome to attend.</strong><br />\n<br />\n<span style="font-family: arial\; font-size: 16px\;"><u><strong>Get Your Tickets for:</strong></u></span><br />\n<br style="font-family: arial\; font-size: 14px\; line-height: 20.8px\;" />\n<strong style="font-family: arial\; font-size: 14px\; line-height: 20.8px\;"><u>TRADITIONAL TOUR (tickets available)</u>&nbsp\;</strong><br style="font-family: arial\; font-size: 14px\; line-height: 20.8px\;" />\n<strong style="font-family: arial\; font-size: 14px\; line-height: 20.8px\;">Saturday\, November 23rd\, 10:00am-5:00pm&nbsp\;<br />\nSunday\, November 24th\, 12:00pm-4:00pm&nbsp\;</strong><br style="font-family: arial\; font-size: 14px\;" />\n<span style="font-family: arial\; font-size: 14px\;">This popular&nbsp\;daytime tour features four privately owned&nbsp\;homes\, a hidden treasure\,&nbsp\;and the historic Octagon House Museum&nbsp\;decorated&nbsp\;for the holiday season.&nbsp\;</span><br style="font-family: arial\; font-size: 14px\;" />\n<span style="font-family: arial\; font-size: 14px\;">The Traditional Tour includes&nbsp\;a FREE optional shuttle service with stops to dine and shop along the way during the hours of the traditional tour only.&nbsp\;For convenient parking and shuttle service\, start your tour at Plaza 94 by parking at the South Side of Ward Ave Parking Lot. Parking is free. (For returning tour attendees\, please note that the shuttle will&nbsp\;not stop at Hudson House Grand Hotel.)</span><br style="font-family: arial\; font-size: 14px\;" />\n<br style="font-family: arial\; font-size: 14px\;" />\n<span style="font-family: arial\; font-size: 14px\; line-height: 20.8px\;"><em><strong>Ticket Price:&nbsp\;$29.00&nbsp\;</strong></em></span><br />\n<span style="font-family: arial\; font-size: 14px\;">_______________________________________________________________________________</span><br />\n<br />\n<strong style="font-family: arial\; font-size: 14px\; line-height: 20.8px\;"><span style="color:#FF0000\;"><s>Evening Dazzle Tour </s>Sold Out</span><br />\nFriday ONLY\,&nbsp\;November 22nd\,&nbsp\;6:00pm-9:00pm</strong><br style="line-height: 20.8px\;" />\n<span style="font-family: arial\; font-size: 14px\; line-height: 20.8px\;">&#8203\;Visit&nbsp\;four privately-owned homes and our hidden treasure&nbsp\;during the evening hours when each home sparkles and glows! </span><font face="arial"><span style="font-size: 14px\;">&nbsp\;</span></font><br />\n<span style="font-family: arial\; font-size: 14px\; line-height: 20.8px\;">Transportation is&nbsp\;</span><u style="font-family: arial\; font-size: 14px\; line-height: 20.8px\;"><strong>NOT</strong></u><span style="font-family: arial\; font-size: 14px\; line-height: 20.8px\;">&nbsp\;included.<br />\nYour&nbsp\;ticket is also good for touring the historic Octagon House only&nbsp\;</span><font face="arial"><span style="font-size: 14px\;">on Saturday or Sunday</span></font><span style="font-family: arial\; font-size: 14px\; line-height: 20.8px\;">.&nbsp\;</span><br />\n<strong style="font-family: arial\; font-size: 14px\;"><span style="line-height: 20.8px\;"><em>&#8203\;<br />\nTicket Price: $40.00&nbsp\;</em></span></strong><br />\n<span style="font-size: 12px\;"><span style="font-family: arial\;"><span style="line-height: 20.8px\;"><em><strong><friday and="" saturday="" tours=""></friday></strong></em></span></span></span><br />\n<span style="font-size:14px\;"><span style="font-family:arial\;"><span style="line-height: 20.8px\;"><em>*Tickets purchased by<span style="color:#FF0000\;"> </span><strong><span style="color:#FF0000\;">November 13</span></strong><span style="color:#FF0000\;">&nbsp\;</span>will be entered into the Door Prize drawings at local stores and the Grand Prize drawing in each home.<br />\n_______________________________________________________________________________</em></span></span><br />\n<br />\n<strong style="font-family: arial\; font-size: 14px\;">PRIZES FOR TICKET HOLDERS</strong></span><br />\n<font color="#000000" face="arial"><span style="font-size: 14px\;">Grand Prizes Donated By:<br />\n&bull\; Droplets of Wellness\, LLC<br />\n&bull\; Grand F&ecirc\;te<br />\n&bull\; kudos<br />\n&bull\; The 715<br />\n&bull\; The Bees Knees</span></font><br />\n<font color="#000000" face="arial"><span style="font-size: 14px\;">Plus additional door prize opportunities at&nbsp\;participating Purple Bow businesses:<br />\n&bull\; Abigail Page Antique Mall<br />\n&bull\; ABOUT House<br />\n&bull\; Angel&rsquo\;s Pet World<br />\n&bull\; BackRoom Vintage<br />\n&bull\; Beloved Makers and Co<br />\n&bull\; Blooms for Happiness<br />\n&bull\; Chapter2 Books<br />\n&bull\; Cream of the Crop Artists Gallery<br />\n&bull\; Droplets of Wellness\, LLC<br />\n&bull\; et cetera<br />\n&bull\; Grand F&ecirc\;te<br />\n&bull\; Hudson Flower Shop<br />\n&bull\; kudos<br />\n&bull\; La Rue March&eacute\;<br />\n&bull\; Mainstream Boutique<br />\n&bull\; Rose &amp\; Lavender<br />\n&bull\; SEASONS Gallery<br />\n&bull\; The Bees Knees<br />\n&bull\; The Purple Tree<br />\n&bull\; The 715</span></font><br />\n<br />\n<span style="font-size:14px\;"><strong style="font-family: arial\; font-size: 14px\;">PURCHASE TICKETS&nbsp\;</strong><br style="font-family: arial\; font-size: 14px\;" />\n<span style="font-family:arial\;">In-office&nbsp\;or online:<br />\n715.386.8411 ||&nbsp\;<a href="https://www.hudsonwi.org/">www.HudsonWI.org</a><br />\nHudson Area Chamber of Commerce &amp\; Tourism Bureau\, 219&nbsp\;2nd Street\, Hudson\, WI 54016<br style="font-family: arial\; font-size: 14px\;" />\nMonday-Friday\, 8:30 AM-4:30 PM &nbsp\;<br />\n<em><strong>Tour of Homes event office hours: Saturday-11/23\, 9:00am-5:00pm | Sunday-11/24\, 11:00am-4:00pm</strong></em></span></span></p>\n\n<ul>\n	<li><span style="font-size:14px\;"><span style="font-family:arial\;"><span style="line-height: 20.8px\;">Map and details are&nbsp\;provided with your&nbsp\;ticket order.&nbsp\;</span></span></span></li>\n	<li><span style="font-size:14px\;"><span style="font-family:arial\;">Sorry\, NO REFUNDS.&nbsp\;&nbsp\;</span></span></li>\n	<li><span style="font-size:14px\;"><span style="font-family:arial\;">Children 12 years and older are welcome&nbsp\;to attend.</span></span></li>\n	<li><span style="font-size:14px\;"><span style="font-family:arial\;"><span style="line-height: 20.8px\;">Wear socks as you will need to remove your shoes at each of the homes. Plastic bags will be available to put your shoes in.</span></span></span></li>\n	<li><span style="font-size:14px\;"><span style="font-family:arial\;"><span style="line-height: 20.8px\;">No pets\, please!</span></span></span></li>\n	<li><span style="font-size:14px\;"><span style="font-family:arial\;"><span style="line-height: 20.8px\;">No large bags/backpacks will be allowed into the homes.</span></span></span></li>\n	<li><span style="font-size:14px\;"><span style="font-family:arial\;"><span style="line-height: 20.8px\;">No food or drink will be allowed into the homes.</span></span></span></li>\n</ul>\n<em><strong><span style="font-size:14px\;"><span style="font-family:arial\;"><span style="line-height: 20.8px\;"><span style="color:#FF0000\;">Ticket Holders who choose to pick up their tickets will receive a call when their tickets are available. Ticket holders who choose to have their tickets mailed will receive their tickets closer to the event date.</span></span></span></span></strong></em>\n\n<p class="p1" style="margin: 0px\; font-variant-numeric: normal\; font-variant-east-asian: normal\; font-stretch: normal\; line-height: normal\;"><span style="color: rgb(0\, 167\, 166)\; font-family: Helvetica\; font-size: 14px\;"><span style="color:#000000\;"><span style="font-family: arial\;">_____________________________________________________________________________________________</span></span></span><br />\n<br style="font-family: arial\; font-size: 12px\;" />\n<span style="color: rgb(0\, 167\, 166)\; font-family: Helvetica\; font-size: 14px\;"><span style="font-size: 16px\;"><span style="color: rgb(0\, 0\, 0)\;"><strong style="line-height: 20.8px\;"><u>TOUR LOCATIONS</u></strong></span></span></span><br style="color: rgb(0\, 167\, 166)\; font-family: Helvetica\; font-size: 12px\;" />\n<br style="color: rgb(0\, 167\, 166)\; font-family: Helvetica\; font-size: 12px\;" />\n<br style="color: rgb(0\, 167\, 166)\; font-family: Helvetica\; font-size: 12px\;" />\n<span style="color:#000000\;"><span style="font-size:14px\;"><span style="font-family:arial\;"><u style="font-family: arial\; font-size: 14px\;"><strong>Octagon House Museum</strong></u><br />\nThe <strong>Octagon House Museum</strong>\, built in 1855 and furnished in mid-19th century style\, will surround visitors with the warm Christmas traditions of the Moffat-Hughes Family. It is bedecked with wreathes in the windows\, decorations adorning the tree\, gifts ready for giving\, music and games ready for playing\, and the dining room table set for holiday feasting.<br />\n<br style="color: rgb(0\, 167\, 166)\; font-family: Helvetica\; font-size: 12px\;" />\n<u style="font-family: arial\; font-size: 14px\;"><strong>Home #1</strong></u><br style="color: rgb(0\, 167\, 166)\; font-family: Helvetica\; font-size: 12px\;" />\n<b><span style="line-height: 107%\; background-image: initial\; background-position: initial\; background-size: initial\; background-repeat: initial\; background-attachment: initial\; background-origin: initial\; background-clip: initial\;">Built in 1861\, this Italianate-style home</span></b><span style="line-height: 107%\; background-image: initial\; background-position: initial\; background-size: initial\; background-repeat: initial\; background-attachment: initial\; background-origin: initial\; background-clip: initial\;">&nbsp\;features a diverse mix&nbsp\;of textures\, colors\, and furnishings showcasing a French country chic&nbsp\;aesthetic. Christmas trees abound\, with each room displaying a different holiday theme and style. </span><span style="line-height: 107%\; background-image: initial\; background-position: initial\; background-size: initial\; background-repeat: initial\; background-attachment: initial\; background-origin: initial\; background-clip: initial\;">Unique characteristics include four different staircases\, four exit and entrance doors in each direction\, and an array of windows featuring beautiful views.&nbsp\;</span>&nbsp\;<br style="color: rgb(0\, 167\, 166)\; font-family: Helvetica\; font-size: 12px\;" />\n<br style="color: rgb(0\, 167\, 166)\; font-family: Helvetica\; font-size: 12px\;" />\n<u><strong>Home #2</strong></u><br style="color: rgb(0\, 167\, 166)\; font-family: Helvetica\; font-size: 12px\;" />\nDiscover this <strong>2023-built\, one-level home</strong>\, elegantly decorated in a charming buffalo check holiday theme. With a vast collection of snow babies and a blend of cool whites and grays\, this home radiates sophistication. Natural light floods the space\, highlighting vaulted ceilings and seamless Christmas d&eacute\;cor inside and out.&nbsp\;&nbsp\;<br style="color: rgb(0\, 167\, 166)\; font-family: Helvetica\; font-size: 12px\;" />\n<br style="color: rgb(0\, 167\, 166)\; font-family: Helvetica\; font-size: 12px\;" />\n<u><strong>Home #3</strong></u><br style="color: rgb(0\, 167\, 166)\; font-family: Helvetica\; font-size: 12px\;" />\n<strong><span style="background-image:initial\;background-position:initial\;background-size:initial\;background-repeat:initial\;background-attachment:initial\;background-origin:initial\;background-clip:initial\;">This Arts and Craft-style bungalow was built in 1920.</span></strong> Its holiday theme is gold\, silver\, and cream\, with wood and feather accents - traditional in style with the focus on warm and cozy. Look for the hidden laundry/utility room accessed only through a bookcase.&nbsp\;&nbsp\;<br style="color: rgb(0\, 167\, 166)\; font-family: Helvetica\; font-size: 12px\;" />\n<br style="color: rgb(0\, 167\, 166)\; font-family: Helvetica\; font-size: 12px\;" />\n<u><strong>Home #4</strong></u><br style="color: rgb(0\, 167\, 166)\; font-family: Helvetica\; font-size: 12px\;" />\n<span style="background-image:initial\;background-position:initial\;background-size:initial\;background-repeat:initial\;background-attachment:initial\;background-origin:initial\;background-clip:initial\;">This <strong>1960 modern ranch-style home</strong> boasts an eclectic d&eacute\;cor with numerous mid-century\, modern handcrafted pieces. Visitors will enter a vintage Christmas party\, with each room highlighting a distinct theme\, Hudson memorabilia\, and playful elements that reflect the era of the home?s construction.</span>&nbsp\;<br />\n<br />\n<b><u>New This Year</u></b><br />\nThis holiday\, we&#39\;re excited to reveal a hidden treasure ? <strong>an 1880s historic landmark</strong>\, festively transformed into a whimsical holiday haven. Join us for this enchanting experience\, where history and holiday magic blend seamlessly to create an unforgettable experience.&nbsp\;</span></span></span><br />\n<br />\n<span style="color: rgb(0\, 167\, 166)\; font-family: Helvetica\; font-size: 14px\;"><span style="color: rgb(0\, 0\, 0)\; font-family: arial\;">_______________________________________________________________________________</span><br />\n<br />\n<span style="color:#000000\;"><span style="font-family:arial\;"><strong>Discover Where to Stay in Hudson</strong><br />\nHudson is home to several fantastic places to stay. Choose from locations that offer indoor pools\, jacuzzi suites\, and pet-friendly accommodations.&nbsp\;Start planning and discover places to stay in Hudson\, Wisconsin at <a href="https://www.hudsonwi.org/discover/stay">https://www.hudsonwi.org/discover/stay</a>.&nbsp\;</span></span></span></p>\n\n<p class="p3" style="margin: 0px\; font-variant-numeric: normal\; font-variant-east-asian: normal\; font-stretch: normal\; line-height: normal\;"><span style="color: rgb(0\, 0\, 0)\; font-family: arial\; font-size: 14px\;">_______________________________________________________________________________</span><br />\n&nbsp\;</p>\n\n<div class="row gz-event-description" itemprop="about" style="box-sizing: border-box\; margin-right: -15px\; margin-left: -15px\; display: flex\; flex-wrap: wrap\; outline: 0px\; color: rgb(63\, 63\, 63)\; font-family: Montserrat\, sans-serif\;">\n<div class="col" style="box-sizing: border-box\; position: relative\; width: 1130px\; min-height: 1px\; padding-right: 15px\; padding-left: 15px\; flex-basis: 0px\; flex-grow: 1\; max-width: 100%\; outline: 0px\;">\n<p style="font-size: 16px\; box-sizing: border-box\; margin: 0px 0px 1rem\; outline: 0px\;"><span style="font-size:14px\;"><span style="font-family:arial\;"><strong style="color: rgb(0\, 0\, 0)\; font-family: arial\; font-size: 14px\;">For any additional questions please call or email:&nbsp\;715.386.8411 || info@hudsonwi.org</strong></span></span></p>\n</div>\n</div>\n<br />\n<span style="font-size:14px\;"><span style="font-family:arial\;"><span style="color: rgb(0\, 0\, 0)\;"><em>Interested in having your home featured on the tour in 2025? Please email&nbsp\;</em></span><em><a href="mailto:info@hudsonwi.org?subject=Christmas%20Tour%20of%20Homes%20Interest" style="font-family: arial\; font-size: 14px\;">info@hudsonwi.org</a><span style="color: rgb(0\, 0\, 0)\;">.&nbsp\;</span></em></span></span>
LOCATION:
UID:e.2450.27730
SEQUENCE:3
DTSTAMP:20260423T201134Z
URL:https://business.hudsonwi.org/events/details/hudson-christmas-tour-of-homes-2024-27730
END:VEVENT

END:VCALENDAR
