BEGIN:VCALENDAR
VERSION:2.0
PRODID:-//ChamberMaster//Event Calendar 2.0//EN
METHOD:PUBLISH
X-PUBLISHED-TTL:P3D
REFRESH-INTERVAL:P3D
CALSCALE:GREGORIAN
BEGIN:VEVENT
DTSTART:20230909T183000Z
DTEND:20230909T213000Z
X-MICROSOFT-CDO-ALLDAYEVENT:FALSE
SUMMARY:Hudson Food Walk Tour
DESCRIPTION:Savor\, Stroll and Experience Historic Hudson on a Guided Food Tour\n\nHudson Food Walk guided tours offer a fun way to explore Hudson's thriving food scene and experience all this quaint river town has to offer. During the three-hour tour\, guests learn about Hudson's rich history\, stroll along the banks of the scenic St. Croix River and make stops at six popular downtown destinations to enjoy a variety of tastings including class American and Latin-inspired dishes\, craft beer and cocktails\, as well as stunning desserts and handmade chocolates. \n\n\n\nCurrent destinations include:\n\n	Pier 500\n	Barker's Bar & Grill\n	St. Croix Baking Company\n	Pedro's del Este\n	Knoke's Chocolates & Nuts\n	Grand Fete or Black Rooster Bistro \n\nThe Hudson Food Walk is perfect for couples\, friends\, entertaining guests\, group outings\, celebrations\, and team building for businesses. \n\n\n\nTo register for an upcoming tour\, request a private tour\, or to purchase a gift certificate\, please visit http://hudsonfoodwalk.com.
X-ALT-DESC;FMTTYPE=text/html:<em><strong>Savor\, Stroll and Experience Historic Hudson on a Guided Food Tour</strong></em><br />\nHudson Food Walk guided tours offer a fun way to explore Hudson&#39\;s thriving food scene and experience all this quaint river town has to offer. During the three-hour tour\, guests learn about Hudson&#39\;s rich history\, stroll along the banks of the scenic St. Croix River and make stops at six popular downtown destinations to enjoy a variety of tastings including class American and Latin-inspired dishes\, craft beer and cocktails\, as well as stunning desserts and handmade chocolates.&nbsp\;<br />\n<br />\nCurrent destinations include:\n<ul>\n	<li>Pier 500</li>\n	<li>Barker&#39\;s Bar &amp\; Grill</li>\n	<li>St. Croix Baking Company</li>\n	<li>Pedro&#39\;s del Este</li>\n	<li>Knoke&#39\;s Chocolates &amp\; Nuts</li>\n	<li>Grand Fete or Black Rooster Bistro&nbsp\;</li>\n</ul>\nThe Hudson Food Walk is perfect for couples\, friends\, entertaining guests\, group outings\, celebrations\, and team building for businesses.&nbsp\;<br />\n<br />\nTo register for an upcoming tour\, request a private tour\, or to purchase a gift certificate\, please visit&nbsp\;<a href="http://hudsonfoodwalk.com" style="font-family: Arial\, sans-serif\;">http://hudsonfoodwalk.com</a>.\n\n<p style="margin:0in"><o:p></o:p></p>\n
LOCATION:** No walk ups. Pre-registration required 48 hours in advance on hudsonfoodwalk.com ** Tours begin for registered guests in the lobby of the Phipps Center for the Arts (109 Locust St.\, Hudson). Tours take place rain or shine\, and include tastings at six destinations.
UID:e.2450.26396
SEQUENCE:3
DTSTAMP:20260420T204215Z
URL:https://business.hudsonwi.org/events/details/hudson-food-walk-tour-26396
END:VEVENT

END:VCALENDAR
