BEGIN:VCALENDAR
VERSION:2.0
PRODID:-//ChamberMaster//Event Calendar 2.0//EN
METHOD:PUBLISH
X-PUBLISHED-TTL:P3D
REFRESH-INTERVAL:P3D
CALSCALE:GREGORIAN
BEGIN:VEVENT
DTSTART:20260613T183000Z
DTEND:20260613T213000Z
X-MICROSOFT-CDO-ALLDAYEVENT:FALSE
SUMMARY:Hudson Food Walk Tour
DESCRIPTION:Savor\, Stroll and Experience Historic Hudson on a Guided Food Tour \n\nHudson Food Walk guided tours offer a fun way to explore Hudson's thriving food scene and experience all this quaint river town has to offer. During the three-hour tour\, guests learn about Hudson?s rich history\, stroll along the banks of the scenic St. Croix River and make stops at six popular downtown destinations to enjoy a true "taste of Hudson" and a variety of sweet and savory tastings. Tours end on a sweet note at Knoke's Chocolates & Nuts for a sampling of handmade chocolates and ice cream.\n\n \n\nCurrent destinations include Pier 500\, Barker?s Bar & Grill\, St. Croix Baking Company\, Pedro?s Pizza Lounge\, Knoke?s Chocolates & Nuts and Grand Fete or Black Rooster Bistro.\n\n \n\n*Destinations could be subject to change.\n\n \n\nThe Hudson Food Walk is perfect for couples\, friends\, celebrations\, group outings\,  entertaining family and team building for businesses. \n\n \n\nTo register for an upcoming tour\, request a private tour or to purchase a gift certificate\, please visit http://hudsonfoodwalk.com.
X-ALT-DESC;FMTTYPE=text/html:<p style="margin:0in"><span style="font-size:12px\;"><span style="font-family:arial\;"><b><i>Savor\, Stroll and Experience Historic Hudson on a Guided Food Tour&nbsp\;</i></b></span></span><o:p></o:p></p>\n\n<p style="margin:0in"><span style="font-size:12px\;"><span style="font-family:arial\;">Hudson Food Walk guided tours offer a fun way to explore Hudson's thriving food scene and experience all this quaint river town has to offer. During the three-hour tour\, guests learn about Hudson?s rich history\, stroll along the banks of the scenic St. Croix River and make stops at six popular downtown destinations to enjoy a true "taste of Hudson" and a variety of sweet and savory tastings. Tours end on a sweet note at Knoke's Chocolates &amp\; Nuts for a sampling of handmade chocolates and ice cream.</span></span><o:p></o:p></p>\n\n<p style="margin:0in"><span style="font-size:12px\;"><span style="font-family:arial\;">&nbsp\;</span></span><o:p></o:p></p>\n\n<p style="margin:0in"><span style="font-size:12px\;"><span style="font-family:arial\;">Current destinations include Pier 500\, Barker?s Bar &amp\; Grill\, St. Croix Baking Company\, Pedro?s Pizza Lounge\, Knoke?s Chocolates &amp\; Nuts and Grand Fete&nbsp\;or&nbsp\;Black Rooster Bistro.</span></span><o:p></o:p></p>\n\n<p style="margin:0in"><span style="font-size:12px\;"><span style="font-family:arial\;">&nbsp\;</span></span><o:p></o:p></p>\n\n<p style="margin:0in"><span style="font-size:12px\;"><span style="font-family:arial\;">*Destinations could be subject to change.</span></span><o:p></o:p></p>\n\n<p style="margin:0in"><span style="font-size:12px\;"><span style="font-family:arial\;">&nbsp\;</span></span><o:p></o:p></p>\n\n<p style="margin:0in"><span style="font-size:12px\;"><span style="font-family:arial\;"><span style="color: rgb(31\, 36\, 40)\;">The Hudson Food Walk is perfect for couples\, friends\,&nbsp\;</span><span style="color: rgb(31\, 36\, 40)\;">celebrations</span><span style="color: rgb(31\, 36\, 40)\;">\, group outings\,&nbsp\;</span> <span style="color: rgb(31\, 36\, 40)\;">entertaining family</span>&nbsp\;<span style="color: rgb(31\, 36\, 40)\;">and team building for businesses.&nbsp\;</span></span></span><o:p></o:p></p>\n\n<p style="margin:0in"><span style="font-size:12px\;"><span style="font-family:arial\;">&nbsp\;</span></span><o:p></o:p></p>\n\n<p style="margin:0in"><span style="font-size:12px\;"><span style="font-family:arial\;"><span style="color: rgb(31\, 36\, 40)\;">To register for an upcoming tour\, request a private tour or to purchase a gift certificate\, please visit&nbsp\;</span><a href="http://hudsonfoodwalk.com/" target="_blank">http://hudsonfoodwalk.com</a><span style="color: black\;">.&nbsp\;</span></span></span><o:p></o:p></p>\n\n<p style="margin:0in">&nbsp\;</p>\n
LOCATION:** No walk ups. Pre-registration required 48 hours in advance on hudsonfoodwalk.com ** Tours begin for registered guests in the lobby of the Phipps Center for the Arts (109 Locust St.\, Hudson). Tours take place rain or shine\, and include tastings at six destinations.
UID:e.2450.38715
SEQUENCE:3
DTSTAMP:20260425T150732Z
URL:https://business.hudsonwi.org/events/details/hudson-food-walk-tour-38715
END:VEVENT

END:VCALENDAR
