BEGIN:VCALENDAR
VERSION:2.0
PRODID:-//ChamberMaster//Event Calendar 2.0//EN
METHOD:PUBLISH
X-PUBLISHED-TTL:P3D
REFRESH-INTERVAL:P3D
CALSCALE:GREGORIAN
BEGIN:VEVENT
DTSTART:20251130T010000Z
DTEND:20251130T033000Z
X-MICROSOFT-CDO-ALLDAYEVENT:FALSE
SUMMARY:It's a Wonderful Life
DESCRIPTION:Follow George Bailey's heartwarming journey as he discovers the profound impact one life can have on an entire community. This beloved holiday classic\, filled with hope\, love\, and second chances\, is a heartfelt reminder of the beauty of family\, friendship\, and the holiday spirit. Perfect for a holiday audience\, this stage adaptation captures the warmth and nostalgia of the iconic film. Don't miss this uplifting celebration of what truly makes life wonderful!
X-ALT-DESC;FMTTYPE=text/html:Follow George Bailey&rsquo\;s heartwarming journey as he discovers the profound impact one life can have on an entire community. This beloved holiday classic\, filled with hope\, love\, and second chances\, is a heartfelt reminder of the beauty of family\, friendship\, and the holiday spirit. Perfect for a holiday audience\, this stage adaptation captures the warmth and nostalgia of the iconic film. Don&rsquo\;t miss this uplifting celebration of what truly makes life wonderful!
LOCATION:Phipps Center for the Arts 109 Locust St. Hudson\, WI 54016
UID:e.2450.36996
SEQUENCE:3
DTSTAMP:20260425T195527Z
URL:https://business.hudsonwi.org/events/details/it-s-a-wonderful-life-11-29-2025-36996
END:VEVENT

END:VCALENDAR
