BEGIN:VCALENDAR
VERSION:2.0
PRODID:-//ChamberMaster//Event Calendar 2.0//EN
METHOD:PUBLISH
X-PUBLISHED-TTL:P3D
REFRESH-INTERVAL:P3D
CALSCALE:GREGORIAN
BEGIN:VEVENT
DTSTART:20260609T220000Z
DTEND:20260610T020000Z
X-MICROSOFT-CDO-ALLDAYEVENT:FALSE
SUMMARY:Legacy of Grace Gala
DESCRIPTION:Join us for an unforgettable evening as we honor 45 years of compassion\, commitment\, and community impact - a milestone celebration reflecting the heart of our mission and the grace that has carried us this far.\n\n\n\nStep into an evening filled with meaning and purpose\, where stories of hope come to life and the legacy of caring continues to grow.\n\n\n\nTogether\, we'll celebrate the individuals\, families\, partners\, and supporters who have shaped our journey and have help extend kindness to those who needed it most.
X-ALT-DESC;FMTTYPE=text/html:<div>\n<div>\n<p><span style="color:rgb(2\, 66\, 114)">Join us for an unforgettable evening as we honor 45 years of&nbsp\;</span><span style="color:rgb(2\, 66\, 114)">compassion\, commitment\, and community impact - a milestone celebration reflecting the heart of our mission and the grace that has carried us this far.</span></p>\n</div>\n\n<div>\n<p><span style="color:rgb(2\, 66\, 114)">Step into an evening filled with meaning and purpose\, where stories of hope come to life and the legacy of caring continues to grow.</span></p>\n</div>\n\n<div>\n<p><span style="color:rgb(2\, 66\, 114)">Together\, we&rsquo\;ll celebrate the individuals\, families\, partners\, and supporters who have shaped our journey and have help extend kindness to those who needed it most.</span></p>\n</div>\n</div>\n
LOCATION:St. Croix National Golf & Event Center 1603 32nd Avenue Somerset\, WI 54025
UID:e.2450.38654
SEQUENCE:3
DTSTAMP:20260422T224536Z
URL:https://business.hudsonwi.org/events/details/legacy-of-grace-gala-38654
END:VEVENT

END:VCALENDAR
