BEGIN:VCALENDAR
VERSION:2.0
PRODID:-//ChamberMaster//Event Calendar 2.0//EN
METHOD:PUBLISH
X-PUBLISHED-TTL:P3D
REFRESH-INTERVAL:P3D
CALSCALE:GREGORIAN
BEGIN:VEVENT
DTSTART:20240724T170000Z
DTEND:20240724T180000Z
X-MICROSOFT-CDO-ALLDAYEVENT:FALSE
SUMMARY:Let's Do Lunch! 7/24/24
DESCRIPTION:Join us for a new opportunity for members to connect!\n\n \n\nEach month on the fourth Wednesday of the month at Noon\,  we will meet at a local restaurant for lunch and conversation.  This event is open to all members\, and we will rotate to the different member locations.  Attendees will pay for their own lunch. \n\n \n\nLet's Do Lunch! offers a different time for members to connect and supports local restaurants.
X-ALT-DESC;FMTTYPE=text/html:<span style="font-size:14px\;"><span style="font-family:arial\;">Join us for a new opportunity for members to connect!<br />\n&nbsp\;<br />\nEach month on the fourth Wednesday of the month at Noon\, &nbsp\;we will meet at a local restaurant for lunch and conversation.&nbsp\; This event is open to all members\, and we will rotate to the different member locations. &nbsp\;Attendees will pay for their own lunch.&nbsp\;<br />\n&nbsp\;<br />\nLet&rsquo\;s Do Lunch! offers a different time for members to connect and supports local restaurants.</span></span>
LOCATION:Jonesy's Local Bar & Grill 1801 Ward Ave.\, Ste. 240 Hudson\, WI\, 54016
UID:e.2450.30614
SEQUENCE:3
DTSTAMP:20260425T221100Z
URL:https://business.hudsonwi.org/events/details/let-s-do-lunch-7-24-24-30614
END:VEVENT

END:VCALENDAR
