BEGIN:VCALENDAR
VERSION:2.0
PRODID:-//ChamberMaster//Event Calendar 2.0//EN
METHOD:PUBLISH
X-PUBLISHED-TTL:P3D
REFRESH-INTERVAL:P3D
CALSCALE:GREGORIAN
BEGIN:VEVENT
DTSTART:20210118T220000Z
DTEND:20210119T000000Z
X-MICROSOFT-CDO-ALLDAYEVENT:FALSE
SUMMARY:Little Seeds Nature Preschool Open House
DESCRIPTION:Description: This open house is a time for families to come and learn more about the Little Seeds Nature preschool offerings at camp St. Croix.
X-ALT-DESC;FMTTYPE=text/html:Description: This open house is a time for families to come and learn more about the Little Seeds Nature preschool offerings at camp St. Croix.
LOCATION:345 Riverview Dr. Hudson\, WI 54016 YMCA Camp St. Croix Day Croix Property
UID:e.2450.18772
SEQUENCE:3
DTSTAMP:20260423T015159Z
URL:https://business.hudsonwi.org/events/details/little-seeds-nature-preschool-open-house-01-18-2021-18772
END:VEVENT

END:VCALENDAR
