BEGIN:VCALENDAR
VERSION:2.0
PRODID:-//ChamberMaster//Event Calendar 2.0//EN
METHOD:PUBLISH
X-PUBLISHED-TTL:P3D
REFRESH-INTERVAL:P3D
CALSCALE:GREGORIAN
BEGIN:VEVENT
DTSTART:20241025T160000Z
DTEND:20241027T203000Z
X-MICROSOFT-CDO-ALLDAYEVENT:FALSE
SUMMARY:Living History Death Customs at the Octagon House Museum
DESCRIPTION:It's living history this weekend at the Octagon House! Join us as we delve into 1800s death etiquette and learn about the very personal and macabre death customs observed more than a century ago. See examples of superstitious practices throughout the Octagon House and hear local lore of lives that were lost. Reservations Required. www.info@hudsonoctagonhouse.org or 715-386-2654
X-ALT-DESC;FMTTYPE=text/html:<div>\n<p>It&#39\;s living history this weekend at the Octagon House! Join us as we delve into 1800s death etiquette and learn about the very personal and macabre death customs observed more than a century ago. See examples of superstitious practices throughout the Octagon House and hear local lore of lives that were lost. Reservations Required. www.info@hudsonoctagonhouse.org or 715-386-2654</p>\n</div>\n
LOCATION:1004 3rd st. Hudson Wisconsin 54016
UID:e.2450.30763
SEQUENCE:3
DTSTAMP:20260421T085812Z
URL:https://business.hudsonwi.org/events/details/living-history-death-customs-at-the-octagon-house-museum-30763
END:VEVENT

END:VCALENDAR
