BEGIN:VCALENDAR
VERSION:2.0
PRODID:-//ChamberMaster//Event Calendar 2.0//EN
METHOD:PUBLISH
X-PUBLISHED-TTL:P3D
REFRESH-INTERVAL:P3D
CALSCALE:GREGORIAN
BEGIN:VEVENT
DTSTART:20191120T173000Z
DTEND:20191120T190000Z
X-MICROSOFT-CDO-ALLDAYEVENT:FALSE
SUMMARY:Manufacturer's Roundtable
DESCRIPTION:Please join us for a tour of Nolato Contour followed by a working lunch to include introductions and company updates\, and other discussion topics.
X-ALT-DESC;FMTTYPE=text/html:Please join us for a tour of Nolato Contour followed by a working lunch to include introductions and company updates\, and other discussion topics.
LOCATION:Nolato Contour 660 VandeBerg Street Baldwin\, WI 54002 715.684.4614
UID:e.2450.14698
SEQUENCE:3
DTSTAMP:20260423T235321Z
URL:https://business.hudsonwi.org/events/details/manufacturer-s-roundtable-14698
END:VEVENT

END:VCALENDAR
