BEGIN:VCALENDAR
VERSION:2.0
PRODID:-//ChamberMaster//Event Calendar 2.0//EN
METHOD:PUBLISH
X-PUBLISHED-TTL:P3D
REFRESH-INTERVAL:P3D
CALSCALE:GREGORIAN
BEGIN:VEVENT
DTSTART;VALUE=DATE:20190414
DTEND;VALUE=DATE:20190415
TRANSP:TRANSPARENT
X-MICROSOFT-CDO-ALLDAYEVENT:TRUE
SUMMARY:Opera and Oratorio Encores | The Phipps Choral Society
DESCRIPTION:The 40-voice chorus explores new musical territory\, performing familiar choruses from the world of opera repertoire\, such as "Chorus of the Hebrew Slaves" from Verdi's Nabucco\, and "Humming Chorus" from Puccini's Madame Butterfly\, as well as a few notable oratorio selections.
X-ALT-DESC;FMTTYPE=text/html:<p><span style="font-size:14px"><span style="font-family:verdana">The 40-voice chorus explores new musical territory\, performing familiar choruses from the world of opera repertoire\, such as &ldquo\;Chorus of the Hebrew Slaves&rdquo\; from Verdi&rsquo\;s<em> Nabucco</em>\, and &ldquo\;Humming Chorus&rdquo\; from Puccini&rsquo\;s <em>Madame Butterfly</em>\, as well as a few notable oratorio selections.</span></span></p>\n
LOCATION:
UID:e.2450.13876
SEQUENCE:3
DTSTAMP:20260423T081404Z
URL:https://business.hudsonwi.org/events/details/opera-and-oratorio-encores-the-phipps-choral-society-13876
END:VEVENT

END:VCALENDAR
