BEGIN:VCALENDAR
VERSION:2.0
PRODID:-//ChamberMaster//Event Calendar 2.0//EN
METHOD:PUBLISH
X-PUBLISHED-TTL:P3D
REFRESH-INTERVAL:P3D
CALSCALE:GREGORIAN
BEGIN:VEVENT
DTSTART:20220611T190000Z
DTEND:20220611T200000Z
X-MICROSOFT-CDO-ALLDAYEVENT:FALSE
SUMMARY:Paint and a Pint
DESCRIPTION:The taproom in Hudson is just two blocks from the pier. Here in this beautiful river town\, Hop and Barrel brewers craft delicious stouts\, refreshing IPAs\, and other mouth-watering brews. Easily accessible by foot\, bike\, boat\, or car (private parking!)\, and we look forward to having you join us for a Paint and sip in the taproom! Carissa will walk you through this WI inspired water front painting\, while you enjoy a complimentary craft brew.
X-ALT-DESC;FMTTYPE=text/html:The taproom in Hudson is just two blocks from the pier. Here in this beautiful river town\, Hop and Barrel brewers craft delicious stouts\, refreshing IPAs\, and other mouth-watering brews. Easily accessible by foot\, bike\, boat\, or car (private parking!)\, and we look forward to having you join us for a Paint and sip in the taproom! Carissa will walk you through this WI inspired water front painting\, while you enjoy a complimentary craft brew.&nbsp\;
LOCATION:Hop & Barrel Brewing Company 310 2nd St. Hudson\, WI 54016
UID:e.2450.22827
SEQUENCE:3
DTSTAMP:20260421T211544Z
URL:https://business.hudsonwi.org/events/details/paint-and-a-pint-22827
END:VEVENT

END:VCALENDAR
