BEGIN:VCALENDAR
VERSION:2.0
PRODID:-//ChamberMaster//Event Calendar 2.0//EN
METHOD:PUBLISH
X-PUBLISHED-TTL:P3D
REFRESH-INTERVAL:P3D
CALSCALE:GREGORIAN
BEGIN:VEVENT
DTSTART:20251025T140000Z
DTEND:20251025T210000Z
X-MICROSOFT-CDO-ALLDAYEVENT:FALSE
SUMMARY:Pasture Palooza
DESCRIPTION:This family-friendly event will take place on October 25th from 9am to 4pm and features live music\, local vendors\, games\, and\, of course\, plenty of time with our farm animals. It's a day full of fun\, laughter\, and community connection\, perfect for families\, animal lovers\, and anyone looking for a unique fall experience.
X-ALT-DESC;FMTTYPE=text/html:This family-friendly event will take place on&nbsp\;<strong><span style="font-family:aptos\,sans-serif\;">October&nbsp\;25th from 9am to 4pm</span></strong>&nbsp\;and features live music\, local vendors\, games\, and\, of course\, plenty of time with our farm animals. It&rsquo\;s a day full of fun\, laughter\, and community connection\, perfect for families\, animal lovers\, and anyone looking for a unique fall experience.
LOCATION:Eagle Eye Farm N7802 County Rd F\, River Falls\, WI
UID:e.2450.36455
SEQUENCE:3
DTSTAMP:20260420T021307Z
URL:https://business.hudsonwi.org/events/details/pasture-palooza-36455
END:VEVENT

END:VCALENDAR
