BEGIN:VCALENDAR
VERSION:2.0
PRODID:-//ChamberMaster//Event Calendar 2.0//EN
METHOD:PUBLISH
X-PUBLISHED-TTL:P3D
REFRESH-INTERVAL:P3D
CALSCALE:GREGORIAN
BEGIN:VEVENT
DTSTART:20230821T233000Z
DTEND:20230822T013000Z
X-MICROSOFT-CDO-ALLDAYEVENT:FALSE
SUMMARY:Red River Fencing
DESCRIPTION:Join Red River Fencing at Hop & Barrel Brewing Company\, LLC every Monday night at 6:30 p.m. to train in sword fighting traditions as well as the history of melee combat.
X-ALT-DESC;FMTTYPE=text/html:Join Red River Fencing at Hop &amp\; Barrel Brewing Company\, LLC every Monday night at 6:30 p.m. to train in sword fighting traditions as well as the history of melee combat.&nbsp\;
LOCATION:Hop & Barrel Brewing Company\, LLC 310 2nd St. Hudson\, WI 54016
UID:e.2450.26168
SEQUENCE:3
DTSTAMP:20260420T223205Z
URL:https://business.hudsonwi.org/events/details/red-river-fencing-08-21-2023-26168
END:VEVENT

END:VCALENDAR
