BEGIN:VCALENDAR
VERSION:2.0
PRODID:-//ChamberMaster//Event Calendar 2.0//EN
METHOD:PUBLISH
X-PUBLISHED-TTL:P3D
REFRESH-INTERVAL:P3D
CALSCALE:GREGORIAN
BEGIN:VEVENT
DTSTART:20251106T163000Z
DTEND:20251106T190000Z
X-MICROSOFT-CDO-ALLDAYEVENT:FALSE
SUMMARY:Rise Inclusive Employment Luncheon and Networking Event
DESCRIPTION:We invite you and your team to join us for our second inclusive employment luncheon and networking event.\n\n \n\nDoors open at 10:30 a.m. for networking with Rise partners and other disability-inclusive employers.\n\nDuring the luncheon starting at 11:30 a.m.\, you will enjoy a great meal\, learn inclusive employment business practices from expert special guests\, share expertise with other businesses\, and brainstorm how you can boost your workforce. We encourage you to extend an invitation to businesses in your network that you think will benefit from learning more about inclusive employment. Invite them to join you at your table!\n\n\n\nMenu: Chicken Veronique or Grilled Vegetable and Rainbow Quinoa\n\n\n\nWe are currently seeking event sponsors for our calendar of events throughout 2025\, which includes an online awareness campaign\, an online fundraising auction\, and a business networking event. Interested in learning more or sponsoring? Contact Tom at tbrinker@rise.org or 763-792-2450.
X-ALT-DESC;FMTTYPE=text/html:<span style="color:black\;">We invite you and your team to join us for our second inclusive employment luncheon and networking event.</span><br />\n&nbsp\;<br />\n<span style="color:black\;">Doors open at 10:30 a.m. for networking with Rise partners and other disability-inclusive employers.</span><br />\n<span style="color:black\;">During the luncheon starting at 11:30 a.m.\, you will enjoy a great meal\, learn inclusive employment business practices from expert special guests\, share expertise with other businesses\, and brainstorm how you can boost your workforce. We encourage you to extend an invitation to businesses in your network that you think will benefit from learning more about inclusive employment. Invite them to join you at your table!</span><br />\n<br />\n<strong><span style="color:black\;">Menu</span></strong><span style="color:black\;">: Chicken Veronique or Grilled Vegetable and Rainbow Quinoa<br />\n<br />\nWe are currently seeking event sponsors for our calendar of events throughout 2025\, which includes an online awareness campaign\, an online fundraising auction\, and a business networking event. Interested in learning more or sponsoring? Contact Tom at <a href="mailto:tbrinker@rise.org">tbrinker@rise.org</a> or 763-792-2450.</span><br />\n<br />\n&nbsp\;
LOCATION:Silverwood Park Great Hall 2500 County Rd E\, St. Anthony\, MN 55421
UID:e.2450.36453
SEQUENCE:3
DTSTAMP:20260425T195527Z
URL:https://business.hudsonwi.org/events/details/rise-inclusive-employment-luncheon-and-networking-event-36453
END:VEVENT

END:VCALENDAR
