BEGIN:VCALENDAR
VERSION:2.0
PRODID:-//ChamberMaster//Event Calendar 2.0//EN
METHOD:PUBLISH
X-PUBLISHED-TTL:P3D
REFRESH-INTERVAL:P3D
CALSCALE:GREGORIAN
BEGIN:VEVENT
DTSTART;VALUE=DATE:20190903
DTEND;VALUE=DATE:20190904
TRANSP:TRANSPARENT
X-MICROSOFT-CDO-ALLDAYEVENT:TRUE
SUMMARY:SHRM-CP/SHRM-SCP Certification Preparation
DESCRIPTION:The HR profession is no longer just about what you know   but how you do your job. By becoming SHRM certified\, you prove your knowledge\, competency and value to colleagues and to employers looking for a competitive edge in today's global economy. Wherever your career takes you\, your SHRM certification will define you as an HR expert and leader.\n\nEnsure you're prepared with UW-Stout's online course designed for SHRM credential candidates. Expand and test your knowledge and practical\, real-life competencies in areas critical for HR career success.\n\nThis intensive twelve week program combines expert instruction with the 2019 SHRM Learning System .
X-ALT-DESC;FMTTYPE=text/html:The HR profession is no longer just about what you know &ndash\; but how you do your job. By becoming SHRM certified\, you prove your knowledge\, competency and value to colleagues and to employers looking for a competitive edge in today&#39\;s global economy. Wherever your career takes you\, your SHRM certification will define you as an HR expert and leader.<br />\nEnsure you&#39\;re prepared with UW-Stout&#39\;s online course designed for SHRM credential candidates. Expand and test your knowledge and practical\, real-life competencies in areas critical for HR career success.<br />\nThis intensive twelve week program combines expert instruction with the 2019 SHRM Learning System&reg\;.&nbsp\;&nbsp\;
LOCATION:Online
UID:e.2450.14276
SEQUENCE:3
DTSTAMP:20260421T004559Z
URL:https://business.hudsonwi.org/events/details/shrm-cp-shrm-scp-certification-preparation-14276
END:VEVENT

END:VCALENDAR
