BEGIN:VCALENDAR
VERSION:2.0
PRODID:-//ChamberMaster//Event Calendar 2.0//EN
METHOD:PUBLISH
X-PUBLISHED-TTL:P3D
REFRESH-INTERVAL:P3D
CALSCALE:GREGORIAN
BEGIN:VEVENT
DTSTART:20210324T000000Z
DTEND:20210324T011500Z
X-MICROSOFT-CDO-ALLDAYEVENT:FALSE
SUMMARY:Social Security Benefits\, When Should You Start Receiving Retirement Benefits?
DESCRIPTION:Gain a better understanding of:\n\n Eligibility and options for you\, your spouse\, and other beneficiaries\n\n Factors to consider when deciding to take your benefits\n\n How your decisions can impact your spouse and other beneficiaries\n\n Opportunities to help fill your retirement income gap \n\n \n\nJOIN US FOR A LIVE WEBINAR!\n\n	\n		\n			 \n			\n				\n					\n						 \n					\n					\n						Social Security\, When Should You Start Receiving Retirement Benefits? \n\n						 \n					\n					\n						Hosts: Richard Mathaus and Randy Kitzmiller \n					\n					\n						Tuesday\, March 23\, 2021 \n					\n					\n						7:00 PM  |  (UTC-05:00) Eastern Time (US & Canada)  |  1 hr 15 mins \n					\n				\n			\n			 \n\n			\n				\n					\n						 \n					\n					\n						\n						\n							\n								\n									Register
X-ALT-DESC;FMTTYPE=text/html:<strong><span style="color:#4472C4\;"><span style="font-family:arial\,sans-serif\;"><span style="font-size:15.0pt\;">Gain a better understanding of:</span></span></span></strong><br />\n<span style="color:#4472C4\;"><span style="font-family:courier new\;"><span style="font-size:15.0pt\;">&bull\;</span></span></span><span style="color:#4472C4\;"><span style="font-family:arial\,sans-serif\;"><span style="font-size:15.0pt\;">Eligibility and options for you\, your spouse\, and other beneficiaries</span></span></span><br />\n<span style="color:#4472C4\;"><span style="font-family:courier new\;"><span style="font-size:15.0pt\;">&bull\;</span></span></span><span style="color:#4472C4\;"><span style="font-family:arial\,sans-serif\;"><span style="font-size:15.0pt\;">Factors to consider when deciding to take your benefits</span></span></span><br />\n<span style="color:#4472C4\;"><span style="font-family:courier new\;"><span style="font-size:15.0pt\;">&bull\;</span></span></span><span style="color:#4472C4\;"><span style="font-family:arial\,sans-serif\;"><span style="font-size:15.0pt\;">How your decisions can impact your spouse and other beneficiaries</span></span></span><br />\n<span style="color:#4472C4\;"><span style="font-family:courier new\;"><span style="font-size:15.0pt\;">&bull\;</span></span></span><span style="color:#4472C4\;"><span style="font-family:arial\,sans-serif\;"><span style="font-size:15.0pt\;">Opportunities to help fill your retirement income gap </span></span></span><br />\n&nbsp\;<br />\n<span style="color:#70AD47\;"><span style="font-family:arial\,sans-serif\;"><span style="font-size:15.0pt\;">JOIN US FOR A LIVE WEBINAR!</span></span></span>\n<table align="center" border="0" cellpadding="0" cellspacing="0" style="width:600px\;background:white\;" width="600">\n	<tbody>\n		<tr>\n			<td style="padding:0in 37.5pt 0in 37.5pt\;">&nbsp\;\n			<table border="0" cellpadding="0" cellspacing="3">\n				<tbody>\n					<tr style="height:38px\;">\n						<td style="padding:0in 0in 0in 0in\;height:38px\;">&nbsp\;</td>\n					</tr>\n					<tr>\n						<td style="padding:0in 0in 0in 0in\;"><strong><span style="color:black\;"><span style="font-family:arial\,sans-serif\;"><span style="font-size:12.0pt\;">Social Security\, When Should You Start Receiving Retirement Benefits? </span></span></span></strong><br />\n						&nbsp\;</td>\n					</tr>\n					<tr>\n						<td style="padding:0in 0in 0in 0in\;"><span style="color:black\;"><span style="font-family:arial\,sans-serif\;"><span style="font-size:12.0pt\;">Hosts: Richard Mathaus and Randy Kitzmiller </span></span></span></td>\n					</tr>\n					<tr>\n						<td style="padding:0in 0in 0in 0in\;"><span style="color:black\;"><span style="font-family:arial\,sans-serif\;"><span style="font-size:12.0pt\;">Tuesday\, March 23\, 2021 </span></span></span></td>\n					</tr>\n					<tr>\n						<td style="padding:0in 0in 0in 0in\;"><span style="color:black\;"><span style="font-family:arial\,sans-serif\;"><span style="font-size:11.5pt\;">7:00 PM&nbsp\;&nbsp\;|&nbsp\;&nbsp\;(UTC-05:00) Eastern Time (US &amp\; Canada)&nbsp\;&nbsp\;|&nbsp\;&nbsp\;1 hr 15 mins </span></span></span></td>\n					</tr>\n				</tbody>\n			</table>\n			&nbsp\;\n\n			<table border="0" cellpadding="0" cellspacing="3">\n				<tbody>\n					<tr style="height:40px\;">\n						<td style="padding:0in 0in 0in 0in\;height:40px\;">&nbsp\;</td>\n					</tr>\n					<tr>\n						<td style="padding:0in 0in 0in 0in\;">\n						<table border="1" cellpadding="0" cellspacing="0" style="width:0px\;background:#005E7D\;border:solid #005E7D 1.0pt\;" width="0">\n							<tbody>\n								<tr>\n									<td style="border:none\;padding:10.5pt .5in 10.5pt .5in\;"><span style="color:black\;"><a href="https://url.emailprotection.link/?b35-eRMGQhu_QN0Ty-iW1q8pCraXOST21T_eREBlqhha9Jp8-Pq111TTKOKl7iaSWDRoCmRROnc_4jM3fNfQOP5CtofYBucOQYTxKxkDqxsr6eDRtJi1dE9Y7Hye2-ybVBFIjlYlWpzj1OSgkpIq7-1SHwBg9CycB467bYcsAQC4~"><span style="text-decoration:none\;text-underline:none\;"><span style="color:white\;"><span style="font-family:arial\,sans-serif\;"><span style="font-size:15.0pt\;">Register</span></span></span></span></a></span></td>\n								</tr>\n							</tbody>\n						</table>\n						</td>\n					</tr>\n					<tr style="height:20px\;">\n						<td style="padding:0in 0in 0in 0in\;height:20px\;">&nbsp\;</td>\n					</tr>\n				</tbody>\n			</table>\n			</td>\n		</tr>\n	</tbody>\n</table>\n\n<div style="clear:both\;">&nbsp\;</div>\n
LOCATION:Virtual Webinar
UID:e.2450.18947
SEQUENCE:3
DTSTAMP:20260422T221630Z
URL:https://business.hudsonwi.org/events/details/social-security-benefits-when-should-you-start-receiving-retirement-benefits-18947
END:VEVENT

END:VCALENDAR
