BEGIN:VCALENDAR
VERSION:2.0
PRODID:-//ChamberMaster//Event Calendar 2.0//EN
METHOD:PUBLISH
X-PUBLISHED-TTL:P3D
REFRESH-INTERVAL:P3D
CALSCALE:GREGORIAN
BEGIN:VEVENT
DTSTART:20181223T230000Z
DTEND:20181224T003000Z
X-MICROSOFT-CDO-ALLDAYEVENT:FALSE
SUMMARY:Star of the Messiah
DESCRIPTION:The Star of Bethlehem from a Messianic Jewish Perspective When you learn the historical and cultural context of the Bible\, its pages come alive with depth and richness you never imagined was there! In this presentation\, we be inspired by the ancient stars\, the Hebrew Scriptures\, Jewish folklore\, and documentary evidence from the ancient Near East to uncover the identity and significance of this fascinating phenomenon. See how modern astronomy can replay the events in the ancient heavens. Witness the amazing alignment between the biblical calendar and the paths of the stars.
X-ALT-DESC;FMTTYPE=text/html:The Star of Bethlehem from a Messianic Jewish Perspective When you learn the historical and cultural context of the Bible\, its pages come alive with depth and richness you never imagined was there! In this presentation\, we be inspired by the ancient stars\, the Hebrew Scriptures\, Jewish folklore\, and documentary evidence from the ancient Near East to uncover the identity and significance of this fascinating phenomenon. See how modern astronomy can replay the events in the ancient heavens. Witness the amazing alignment between the biblical calendar and the paths of the stars.
LOCATION:Beth Immanuel 828 3rd St Hudson\, WI 54016
UID:e.2450.13943
SEQUENCE:3
DTSTAMP:20260420T231312Z
URL:https://business.hudsonwi.org/events/details/star-of-the-messiah-13943
END:VEVENT

END:VCALENDAR
