BEGIN:VCALENDAR
VERSION:2.0
PRODID:-//ChamberMaster//Event Calendar 2.0//EN
METHOD:PUBLISH
X-PUBLISHED-TTL:P3D
REFRESH-INTERVAL:P3D
CALSCALE:GREGORIAN
BEGIN:VEVENT
DTSTART:20240727T003000Z
DTEND:20240727T013000Z
X-MICROSOFT-CDO-ALLDAYEVENT:FALSE
SUMMARY:Tattersall Bootleg Sessions: Inside Straight Blues Band with The Bighorns
DESCRIPTION:Free outdoor concert in the Tattersall Amphitheater. Performance starts at 7:30pm Doors open at 7:00pm. \n\n\n\nSeating will be available for guests who wish to sit during the show.\n\n\n\nAbout the band: http://insidestraightbluesband.com/
X-ALT-DESC;FMTTYPE=text/html:Free outdoor concert in the Tattersall Amphitheater. Performance starts at 7:30pm Doors open at 7:00pm.&nbsp\;<br />\n<br />\nSeating will be available for guests who wish to sit during the show.<br />\n<br />\nAbout the band: <a href="http://insidestraightbluesband.com/">http://insidestraightbluesband.com/&nbsp\;</a>
LOCATION:
UID:e.2450.30331
SEQUENCE:3
DTSTAMP:20260425T221334Z
URL:https://business.hudsonwi.org/events/details/tattersall-bootleg-sessions-inside-straight-blues-band-with-the-bighorns-30331
END:VEVENT

END:VCALENDAR
