BEGIN:VCALENDAR
VERSION:2.0
PRODID:-//ChamberMaster//Event Calendar 2.0//EN
METHOD:PUBLISH
X-PUBLISHED-TTL:P3D
REFRESH-INTERVAL:P3D
CALSCALE:GREGORIAN
BEGIN:VEVENT
DTSTART;VALUE=DATE:20171231
DTEND;VALUE=DATE:20180101
TRANSP:TRANSPARENT
X-MICROSOFT-CDO-ALLDAYEVENT:TRUE
SUMMARY:The Best of Broadway on New Year's Eve
DESCRIPTION:Vocalists Colleen Raye\, Debbie O'Keefe and Katie Gearty will perform the all-time great songs of Broadway\, including classics from My Fair Lady\, Gypsy\, Oliver\, and West Side Story\, as well as The Phantom of the Opera\, Les Mis rables\, Wicked\, and Mama Mia.
X-ALT-DESC;FMTTYPE=text/html:Vocalists Colleen Raye\, Debbie O&rsquo\;Keefe and Katie Gearty will perform the all-time great songs of Broadway\, including classics from&nbsp\;<em>My Fair Lady</em>\, <em>Gypsy</em>\, <em>Oliver</em>\, and&nbsp\;<em>West Side Story</em>\,&nbsp\;as well as <em>The Phantom of the Opera</em>\,&nbsp\;<em>Les Mis&eacute\;rables</em>\, <em>Wicked</em>\,&nbsp\;and&nbsp\;<em>Mama Mia</em>.
LOCATION:Phipps Center for the Arts 109 Locust Street Hudson\, WI 54016
UID:e.2450.7522
SEQUENCE:3
DTSTAMP:20260425T014742Z
URL:https://business.hudsonwi.org/events/details/the-best-of-broadway-on-new-year-s-eve-7522
END:VEVENT

END:VCALENDAR
