BEGIN:VCALENDAR
VERSION:2.0
PRODID:-//ChamberMaster//Event Calendar 2.0//EN
METHOD:PUBLISH
X-PUBLISHED-TTL:P3D
REFRESH-INTERVAL:P3D
CALSCALE:GREGORIAN
BEGIN:VEVENT
DTSTART;VALUE=DATE:20190322
DTEND;VALUE=DATE:20190408
TRANSP:TRANSPARENT
X-MICROSOFT-CDO-ALLDAYEVENT:TRUE
SUMMARY:The Charitable Sisterhood of the Second Trinity Victory Church
DESCRIPTION:By Bo Wilson\n\nThe roads are flooded\, the bridges are washed out\, and less generous souls are staying safely indoors\, but the five angels of mercy do their best to help the victims of global disaster\, spiritual deprivation\, and\, most of all\, each other in this heart-warming comedy.
X-ALT-DESC;FMTTYPE=text/html:<p>By Bo Wilson</p>\n\n<p>The roads are flooded\, the bridges are washed out\, and less generous souls are staying safely indoors\, but the five angels of mercy do their best to help the victims of global disaster\, spiritual deprivation\, and\, most of all\, each other in this heart-warming comedy.</p>\n
LOCATION:
UID:e.2450.13846
SEQUENCE:3
DTSTAMP:20260423T081554Z
URL:https://business.hudsonwi.org/events/details/the-charitable-sisterhood-of-the-second-trinity-victory-church-13846
END:VEVENT

END:VCALENDAR
