BEGIN:VCALENDAR
VERSION:2.0
PRODID:-//ChamberMaster//Event Calendar 2.0//EN
METHOD:PUBLISH
X-PUBLISHED-TTL:P3D
REFRESH-INTERVAL:P3D
CALSCALE:GREGORIAN
BEGIN:VEVENT
DTSTART;VALUE=DATE:20190427
DTEND;VALUE=DATE:20190428
TRANSP:TRANSPARENT
X-MICROSOFT-CDO-ALLDAYEVENT:TRUE
SUMMARY:The Musical Adventures of Flat Stanley Jr. | Children’s Theater Production
DESCRIPTION:Book by Timothy A. McDonald\n\nLyrics by Timothy A. McDonald\, Jonathan K. Waller\n\nMusic by David Weinstein\, Jonathan K. Waller\, Timothy A. McDonald\, and Stephen Gabriel\n\nBased on the book Flat Stanley\, by Jeff Brown\n\nIllustrations by Scott Nash\n\nFilled with infectious songs and non-stop adventure\, this production is based on the popular children?s book series that has inspired countless kids\, parents\, and teachers to mail Flat Stanley all over the world.
X-ALT-DESC;FMTTYPE=text/html:<p><span style="font-size:14px"><span style="font-family:verdana">Book by Timothy A. McDonald<br />\nLyrics by Timothy A. McDonald\, Jonathan K. Waller<br />\nMusic by David Weinstein\, Jonathan K. Waller\, Timothy A. McDonald\, and Stephen Gabriel<br />\nBased on the book <em>Flat Stanley</em>\, by Jeff Brown<br />\nIllustrations by Scott Nash</span></span></p>\n\n<p><span style="font-size:14px"><span style="font-family:verdana">Filled with infectious songs and non-stop adventure\, this production is based on the popular children?s book series that has inspired countless kids\, parents\, and teachers to mail Flat Stanley all over the world.</span></span></p>\n
LOCATION:
UID:e.2450.13922
SEQUENCE:3
DTSTAMP:20260423T081625Z
URL:https://business.hudsonwi.org/events/details/the-musical-adventures-of-flat-stanley-jr-children-s-theater-production-04-27-2019-13922
END:VEVENT

END:VCALENDAR
