BEGIN:VCALENDAR
VERSION:2.0
PRODID:-//ChamberMaster//Event Calendar 2.0//EN
METHOD:PUBLISH
X-PUBLISHED-TTL:P3D
REFRESH-INTERVAL:P3D
CALSCALE:GREGORIAN
BEGIN:VEVENT
DTSTART;VALUE=DATE:20240725
DTEND;VALUE=DATE:20240726
TRANSP:TRANSPARENT
X-MICROSOFT-CDO-ALLDAYEVENT:TRUE
SUMMARY:The Phipps Summer Arts Camps
DESCRIPTION:Summer Arts Camp is an opportunity for students ages 3 to 18 to immerse themselves in dance\, theater\, or visual arts classes that develop skills\, grow the imagination\, and provide an enjoyable social activity. Mix and match different art forms\, pick and choose class times across mornings\, afternoons\, and weeks to create your own\, unique Summer Arts Camp experience.\n\n\n\nClass descriptions\, dates\, times and registration details:\n\nhttps://thephipps.org/classes/summer
X-ALT-DESC;FMTTYPE=text/html:<p><span style="color:rgb(33\, 37\, 41)\; font-family:system-ui\,-apple-system\,segoe ui\,roboto\,helvetica neue\,arial\,noto sans\,liberation sans\,sans-serif\,apple color emoji\,segoe ui emoji\,segoe ui symbol\,noto color emoji\; font-size:16px">Summer Arts Camp is an opportunity for students ages 3 to 18 to immerse themselves in dance\, theater\, or visual arts classes that develop skills\, grow the imagination\, and provide an enjoyable social activity. Mix and match different art forms\, pick and choose class times across mornings\, afternoons\, and weeks to create your own\, unique Summer Arts Camp experience.<br />\n<br />\nClass descriptions\, dates\, times and registration details:</span><br />\n<a href="https://thephipps.org/classes/summer">https://thephipps.org/classes/summer</a><br />\n&nbsp\;</p>\n
LOCATION:
UID:e.2450.29306
SEQUENCE:3
DTSTAMP:20260425T203832Z
URL:https://business.hudsonwi.org/events/details/the-phipps-summer-arts-camps-07-25-2024-29306
END:VEVENT

END:VCALENDAR
