BEGIN:VCALENDAR
VERSION:2.0
PRODID:-//ChamberMaster//Event Calendar 2.0//EN
METHOD:PUBLISH
X-PUBLISHED-TTL:P3D
REFRESH-INTERVAL:P3D
CALSCALE:GREGORIAN
BEGIN:VEVENT
DTSTART:20251030T210000Z
DTEND:20251031T000000Z
X-MICROSOFT-CDO-ALLDAYEVENT:FALSE
SUMMARY:Trick or Treat on Locust Street
DESCRIPTION:Stop by your favorite businesses on Locust Street\, in Downtown Hudson on October 30th from 4pm-7pm so your little ghosts and goblins can gather some fun treats!\n\nThe locally owned business on Locust Street are very excited to welcome you!\n\nThis is a family friendly event.
X-ALT-DESC;FMTTYPE=text/html:<div class="xdj266r x14z9mp xat24cr x1lziwak x1vvkbs" style="overflow-wrap: break-word\; margin-inline: 0px\; margin-bottom: 0px\; margin-top: 0px\; font-family: &quot\;Segoe UI Historic&quot\;\, &quot\;Segoe UI&quot\;\, Helvetica\, Arial\, sans-serif\; color: rgb(8\, 8\, 9)\; font-size: 15px\;">Stop by your favorite businesses on Locust Street\, in Downtown Hudson on October 30th from 4pm-7pm so your little ghosts and goblins can gather some fun treats!</div>\n\n<div class="x14z9mp xat24cr x1lziwak x1vvkbs xtlvy1s" style="overflow-wrap: break-word\; margin-top: 0.5em\; margin-inline: 0px\; margin-bottom: 0px\; font-family: &quot\;Segoe UI Historic&quot\;\, &quot\;Segoe UI&quot\;\, Helvetica\, Arial\, sans-serif\; color: rgb(8\, 8\, 9)\; font-size: 15px\;">The locally owned business on Locust Street are very excited to welcome you!</div>\n\n<div class="x14z9mp xat24cr x1lziwak x1vvkbs xtlvy1s" style="overflow-wrap: break-word\; margin-top: 0.5em\; margin-inline: 0px\; margin-bottom: 0px\; font-family: &quot\;Segoe UI Historic&quot\;\, &quot\;Segoe UI&quot\;\, Helvetica\, Arial\, sans-serif\; color: rgb(8\, 8\, 9)\; font-size: 15px\;">This is a family friendly event.</div>\n
LOCATION:
UID:e.2450.36469
SEQUENCE:3
DTSTAMP:20260420T021340Z
URL:https://business.hudsonwi.org/events/details/trick-or-treat-on-locust-street-36469
END:VEVENT

END:VCALENDAR
