BEGIN:VCALENDAR
VERSION:2.0
PRODID:-//ChamberMaster//Event Calendar 2.0//EN
METHOD:PUBLISH
X-PUBLISHED-TTL:P3D
REFRESH-INTERVAL:P3D
CALSCALE:GREGORIAN
BEGIN:VEVENT
DTSTART:20251025T153000Z
DTEND:20251025T173000Z
X-MICROSOFT-CDO-ALLDAYEVENT:FALSE
SUMMARY:Trick or Treat Trail
DESCRIPTION:Join us and our community partners at the library for a spook-tacular Halloween party! Scary costumes discouraged. Everyone welcome!
X-ALT-DESC;FMTTYPE=text/html:<span style="color:rgb(34\, 34\, 34)\; font-family:nunito sans\,sans-serif\; font-size:18px">Join us and our community partners at the library for a spook-tacular Halloween party! Scary costumes discouraged. Everyone welcome!</span>
LOCATION:Hudson Area Public Library
UID:e.2450.36451
SEQUENCE:3
DTSTAMP:20260420T021313Z
URL:https://business.hudsonwi.org/events/details/trick-or-treat-trail-36451
END:VEVENT

END:VCALENDAR
