BEGIN:VCALENDAR
VERSION:2.0
PRODID:-//ChamberMaster//Event Calendar 2.0//EN
METHOD:PUBLISH
X-PUBLISHED-TTL:P3D
REFRESH-INTERVAL:P3D
CALSCALE:GREGORIAN
BEGIN:VEVENT
DTSTART:20240305T161500Z
DTEND:20240305T170000Z
X-MICROSOFT-CDO-ALLDAYEVENT:FALSE
SUMMARY:Vendor Booth Workshop - 2024
DESCRIPTION:Free Vendor Booth Workshop \n\nBoost your booth presence at the Hudson Community Expo\, or any upcoming tradeshow\, by learning tips and tricks to make your booth stand out from the rest!\n\n\n\nLearn how to make a great first impression\, engage attendees\, and attract new customers by highlighting your organization and all that it has to offer.  See what creates an engaging booth with banners\, tablecloths\, giveaways\, and more.\n\n\n\nRegister today for this free workshop!
X-ALT-DESC;FMTTYPE=text/html:<strong>Free Vendor Booth Workshop&nbsp\;</strong><br />\nBoost your booth presence at the <a href="https://business.hudsonwi.org/events/details/hudson-community-expo-2024-27636?calendarMonth=2024-05-01">Hudson Community Expo</a>\, or any upcoming tradeshow\, by learning tips and tricks to make your booth stand out from the rest!<br />\n<br />\nLearn how to make a great first impression\, engage attendees\, and attract new customers by highlighting your organization and all that it has to offer.&nbsp\; See what creates an engaging booth with banners\, tablecloths\, giveaways\, and more.<br />\n<br />\nRegister today for this free workshop!
LOCATION:Citizens State Bank 375 Stageline Road Hudson\, WI 54016
UID:e.2450.29140
SEQUENCE:3
DTSTAMP:20260420T102159Z
URL:https://business.hudsonwi.org/events/details/vendor-booth-workshop-2024-29140
END:VEVENT

END:VCALENDAR
