BEGIN:VCALENDAR
VERSION:2.0
PRODID:-//ChamberMaster//Event Calendar 2.0//EN
METHOD:PUBLISH
X-PUBLISHED-TTL:P3D
REFRESH-INTERVAL:P3D
CALSCALE:GREGORIAN
BEGIN:VEVENT
DTSTART:20240806T134500Z
DTEND:20240806T170000Z
X-MICROSOFT-CDO-ALLDAYEVENT:FALSE
SUMMARY:Visit Crystal Ball Farms with the Hudson Home & Garden Club
DESCRIPTION:Get ready to learn more about farming with the Garden Club.\nWhen: Tuesday\, August 6\, 2024 \nWhere: Crystal Ball Farms 527 WI-35 Osceola\, WI 54020\n\nWhy: Plan to attend! Hang out with the cows! Learn about cows\, farming and producing the best milk products. \n\nSchedule: Meet at the farm at 8:45am It's an easy scenic drive from Hudson to Crystal Ball Farms. Car pooling is encouraged  \n\nRegister today! RSVP to deannehhcp@gamil.com
X-ALT-DESC;FMTTYPE=text/html:<span style="color:rgb(34\, 34\, 34)\; font-family:arial\,helvetica\,sans-serif\; font-size:small">Get ready to learn more about farming with the Garden Club.</span>\n<div>When: Tuesday\, August 6\, 2024&nbsp\;\n<div>Where: Crystal Ball Farms 527 WI-35 Osceola\, WI 54020</div>\n\n<div>Why: Plan to attend! Hang out with the cows! Learn about cows\, farming and producing the best milk products.&nbsp\;</div>\n\n<div>Schedule: Meet at the farm at 8:45am It&rsquo\;s an easy scenic drive from Hudson to Crystal Ball Farms. Car pooling is encouraged&nbsp\;&nbsp\;</div>\n\n<div>Register today! RSVP to&nbsp\;<a href="mailto:deannehhcp@gamil.com" style="color: rgb(17\, 85\, 204)\;" target="_blank">deannehhcp@gamil.com</a></div>\n</div>\n
LOCATION:Crystal Ball Farms 527 WI-35 Osceola\, WI 54020
UID:e.2450.30664
SEQUENCE:3
DTSTAMP:20260423T140620Z
URL:https://business.hudsonwi.org/events/details/visit-crystal-ball-farms-with-the-hudson-home-garden-club-30664
END:VEVENT

END:VCALENDAR
